BEGIN:VCALENDAR
VERSION:2.0
PRODID:-//www.pasadenasocietyofartists.org//NONSGML kigkonsult.se iCalcreat
 or 2.30.10//
CALSCALE:GREGORIAN
METHOD:PUBLISH
UID:4892f59e-8c91-4424-844f-32553a8d6d28
X-WR-CALDESC:9:30 - 10:00 am  Meet&Great\n10:00 am-noon   Meeting\n\nPROGRA
 M: \n\nKNOX PRESBYTERIAN CHURCH - in the Atrium\n225 South Hill Ave (corne
 r of Del Mar - ample parking - entrance on Del Mar)
X-WR-RELCALID:543f117db492659c07e590d83241f086
X-WR-TIMEZONE:America/Los_Angeles
BEGIN:VTIMEZONE
TZID:America/Los_Angeles
BEGIN:STANDARD
TZNAME:PST
DTSTART:20311102T020000
TZOFFSETFROM:-0700
TZOFFSETTO:-0800
RDATE:20321107T020000
END:STANDARD
BEGIN:DAYLIGHT
TZNAME:PDT
DTSTART:20310309T020000
TZOFFSETFROM:-0800
TZOFFSETTO:-0700
RDATE:20320314T020000
RDATE:20330313T020000
END:DAYLIGHT
END:VTIMEZONE
BEGIN:VEVENT
UID:512d17c5-e91f-48bc-bee3-2f12dff95073
DTSTAMP:20260422T145312Z
DESCRIPTION:9:30 - 10:00 am  Meet&Great\n10:00 am-noon   Meeting\n\nPROGRAM
 : \n\nKNOX PRESBYTERIAN CHURCH - in the Atrium\n225 South Hill Ave (corner
  of Del Mar - ample parking - entrance on Del Mar)
DTSTART;TZID=America/Los_Angeles:20311213T093000
DTEND;TZID=America/Los_Angeles:20311213T120000
LOCATION:KNOX PRESBYTERIAN CHURCH - in the Atrium\, 225 South Hill Ave\, Pa
 sadena\, CA 91106 US
SUMMARY:Member Meeting
END:VEVENT
END:VCALENDAR
