BEGIN:VCALENDAR
VERSION:2.0
PRODID:-//www.pasadenasocietyofartists.org//NONSGML kigkonsult.se iCalcreat
 or 2.30.10//
CALSCALE:GREGORIAN
METHOD:PUBLISH
UID:ed63208a-940a-4a89-bc93-6a1fa62c7370
X-WR-CALDESC:9:30 - 10:00 am  Meet&Great\n10:00 am-noon   Meeting\n\nPROGRA
 M: \n\nKNOX PRESBYTERIAN CHURCH - in the Atrium\n225 South Hill Ave (corne
 r of Del Mar - ample parking - entrance on Del Mar)
X-WR-RELCALID:87fb386180c4058b82d03694f9e5180c
X-WR-TIMEZONE:America/Los_Angeles
BEGIN:VTIMEZONE
TZID:America/Los_Angeles
BEGIN:STANDARD
TZNAME:PST
DTSTART:20311102T020000
TZOFFSETFROM:-0700
TZOFFSETTO:-0800
RDATE:20321107T020000
END:STANDARD
BEGIN:DAYLIGHT
TZNAME:PDT
DTSTART:20310309T020000
TZOFFSETFROM:-0800
TZOFFSETTO:-0700
RDATE:20320314T020000
RDATE:20330313T020000
END:DAYLIGHT
END:VTIMEZONE
BEGIN:VEVENT
UID:72f162a5-b576-4b42-b180-60e6833b9052
DTSTAMP:20260422T131615Z
DESCRIPTION:9:30 - 10:00 am  Meet&Great\n10:00 am-noon   Meeting\n\nPROGRAM
 : \n\nKNOX PRESBYTERIAN CHURCH - in the Atrium\n225 South Hill Ave (corner
  of Del Mar - ample parking - entrance on Del Mar)
DTSTART;TZID=America/Los_Angeles:20311108T093000
DTEND;TZID=America/Los_Angeles:20311108T120000
LOCATION:KNOX PRESBYTERIAN CHURCH - in the Atrium\, 225 South Hill Ave\, Pa
 sadena\, CA 91106 US
SUMMARY:Member Meeting
END:VEVENT
END:VCALENDAR
