BEGIN:VCALENDAR
VERSION:2.0
PRODID:-//www.pasadenasocietyofartists.org//NONSGML kigkonsult.se iCalcreat
 or 2.30.10//
CALSCALE:GREGORIAN
METHOD:PUBLISH
UID:8161074c-48a5-4068-b918-9e016b8eaff3
X-WR-CALDESC:9:30 - 10:00 am  Meet&Great\n10:00 am-noon   Meeting\n\nPROGRA
 M: \n\nKNOX PRESBYTERIAN CHURCH - in the Atrium\n225 South Hill Ave (corne
 r of Del Mar - ample parking - entrance on Del Mar)
X-WR-RELCALID:48515e6c29799d0a9d051536a2a8e011
X-WR-TIMEZONE:America/Los_Angeles
BEGIN:VTIMEZONE
TZID:America/Los_Angeles
BEGIN:STANDARD
TZNAME:PST
DTSTART:20301103T020000
TZOFFSETFROM:-0700
TZOFFSETTO:-0800
RDATE:20311102T020000
RDATE:20321107T020000
END:STANDARD
BEGIN:DAYLIGHT
TZNAME:PDT
DTSTART:20310309T020000
TZOFFSETFROM:-0800
TZOFFSETTO:-0700
RDATE:20320314T020000
END:DAYLIGHT
END:VTIMEZONE
BEGIN:VEVENT
UID:2b270e29-83c1-4f03-8d73-8260283bf84e
DTSTAMP:20260422T042721Z
DESCRIPTION:9:30 - 10:00 am  Meet&Great\n10:00 am-noon   Meeting\n\nPROGRAM
 : \n\nKNOX PRESBYTERIAN CHURCH - in the Atrium\n225 South Hill Ave (corner
  of Del Mar - ample parking - entrance on Del Mar)
DTSTART;TZID=America/Los_Angeles:20310614T093000
DTEND;TZID=America/Los_Angeles:20310614T120000
LOCATION:KNOX PRESBYTERIAN CHURCH - in the Atrium\, 225 South Hill Ave\, Pa
 sadena\, CA 91106 US
SUMMARY:Member Meeting
END:VEVENT
END:VCALENDAR
