BEGIN:VCALENDAR
VERSION:2.0
PRODID:-//www.pasadenasocietyofartists.org//NONSGML kigkonsult.se iCalcreat
 or 2.30.10//
CALSCALE:GREGORIAN
METHOD:PUBLISH
UID:6c05d316-bef7-4458-9444-7234d1a68be8
X-WR-CALDESC:9:30 - 10:00 am  Meet&Great\n10:00 am-noon   Meeting\n\nPROGRA
 M: \n\nKNOX PRESBYTERIAN CHURCH - in the Atrium\n225 South Hill Ave (corne
 r of Del Mar - ample parking - entrance on Del Mar)
X-WR-RELCALID:638e141044f1f7b66f88f27e21b7d23e
X-WR-TIMEZONE:America/Los_Angeles
BEGIN:VTIMEZONE
TZID:America/Los_Angeles
BEGIN:STANDARD
TZNAME:PST
DTSTART:20291104T020000
TZOFFSETFROM:-0700
TZOFFSETTO:-0800
RDATE:20301103T020000
END:STANDARD
BEGIN:DAYLIGHT
TZNAME:PDT
DTSTART:20300310T020000
TZOFFSETFROM:-0800
TZOFFSETTO:-0700
RDATE:20310309T020000
END:DAYLIGHT
END:VTIMEZONE
BEGIN:VEVENT
UID:9dd3ffe7-4c2a-49d1-8fa0-22af91eebb4b
DTSTAMP:20260421T051838Z
DESCRIPTION:9:30 - 10:00 am  Meet&Great\n10:00 am-noon   Meeting\n\nPROGRAM
 : \n\nKNOX PRESBYTERIAN CHURCH - in the Atrium\n225 South Hill Ave (corner
  of Del Mar - ample parking - entrance on Del Mar)
DTSTART;TZID=America/Los_Angeles:20300413T093000
DTEND;TZID=America/Los_Angeles:20300413T120000
LOCATION:KNOX PRESBYTERIAN CHURCH - in the Atrium\, 225 South Hill Ave\, Pa
 sadena\, CA 91106 US
SUMMARY:Member Meeting
END:VEVENT
END:VCALENDAR
