BEGIN:VCALENDAR
VERSION:2.0
PRODID:-//www.pasadenasocietyofartists.org//NONSGML kigkonsult.se iCalcreat
 or 2.30.10//
CALSCALE:GREGORIAN
METHOD:PUBLISH
UID:e9a94ae4-dc81-437c-a749-ac7e7b21758e
X-WR-CALDESC:9:30 - 10:00 am  Meet&Great\n10:00 am-noon   Meeting\n\nPROGRA
 M: \n\nKNOX PRESBYTERIAN CHURCH - in the Atrium\n225 South Hill Ave (corne
 r of Del Mar - ample parking - entrance on Del Mar)
X-WR-RELCALID:d8e0a4900cedcc932cd60ddb3096b9e5
X-WR-TIMEZONE:America/Los_Angeles
BEGIN:VTIMEZONE
TZID:America/Los_Angeles
BEGIN:STANDARD
TZNAME:PST
DTSTART:20281105T020000
TZOFFSETFROM:-0700
TZOFFSETTO:-0800
RDATE:20291104T020000
RDATE:20301103T020000
END:STANDARD
BEGIN:DAYLIGHT
TZNAME:PDT
DTSTART:20290311T020000
TZOFFSETFROM:-0800
TZOFFSETTO:-0700
RDATE:20300310T020000
END:DAYLIGHT
END:VTIMEZONE
BEGIN:VEVENT
UID:1ea69e7c-9df4-4d55-a88b-aad999e52748
DTSTAMP:20260420T122146Z
DESCRIPTION:9:30 - 10:00 am  Meet&Great\n10:00 am-noon   Meeting\n\nPROGRAM
 : \n\nKNOX PRESBYTERIAN CHURCH - in the Atrium\n225 South Hill Ave (corner
  of Del Mar - ample parking - entrance on Del Mar)
DTSTART;TZID=America/Los_Angeles:20290609T093000
DTEND;TZID=America/Los_Angeles:20290609T120000
LOCATION:KNOX PRESBYTERIAN CHURCH - in the Atrium\, 225 South Hill Ave\, Pa
 sadena\, CA 91106 US
SUMMARY:Member Meeting
END:VEVENT
END:VCALENDAR
