BEGIN:VCALENDAR
VERSION:2.0
PRODID:-//www.pasadenasocietyofartists.org//NONSGML kigkonsult.se iCalcreat
 or 2.30.10//
CALSCALE:GREGORIAN
METHOD:PUBLISH
UID:d8e79815-86e9-427c-8673-185c309cb8ba
X-WR-CALDESC:PSA Salons are informal gatherings for members and their frien
 ds to share art in a supportive dialogue and good times. We share by liste
 ning and recognizing each other in a creative safe place.\n\nPlease bring 
 munchies and beverages to share. \n\nNumber of attendees is limited to 16
 \n\nThe discussion theme is:\n“What Are the Strongest Influences of Your A
 rt.”\n\nHost:  Liane Enkelis\n\nAlso each artist please bring 1-3 samples 
 of their work to share with the group. \n\nIf you plan to attend\, email\,
  text or call  Liane Enkelis directly by April 24th:\nLiane@LianeEnkelis.c
 om \nor text: 626-399-1816. Thank you. \nShe will send her street address
 \n\nBring a friend\nBring a snack or beverage \n\n\n
X-WR-RELCALID:0455c6caa306604b78606312dc2762af
X-WR-TIMEZONE:America/Los_Angeles
BEGIN:VTIMEZONE
TZID:America/Los_Angeles
BEGIN:STANDARD
TZNAME:PST
DTSTART:20251102T020000
TZOFFSETFROM:-0700
TZOFFSETTO:-0800
RDATE:20261101T020000
END:STANDARD
BEGIN:DAYLIGHT
TZNAME:PDT
DTSTART:20260308T020000
TZOFFSETFROM:-0800
TZOFFSETTO:-0700
RDATE:20270314T020000
END:DAYLIGHT
END:VTIMEZONE
BEGIN:VEVENT
UID:d1e7ad6b-fa1a-4f75-b60d-4000efe71707
DTSTAMP:20260421T005627Z
DESCRIPTION:PSA Salons are informal gatherings for members and their friend
 s to share art in a supportive dialogue and good times. We share by listen
 ing and recognizing each other in a creative safe place.\n\nPlease bring m
 unchies and beverages to share. \n\nNumber of attendees is limited to 16\n
 \nThe discussion theme is:\n“What Are the Strongest Influences of Your Art
 .”\n\nHost:  Liane Enkelis\n\nAlso each artist please bring 1-3 samples of
  their work to share with the group. \n\nIf you plan to attend\, email\, t
 ext or call  Liane Enkelis directly by April 24th:\nLiane@LianeEnkelis.com
  \nor text: 626-399-1816. Thank you. \nShe will send her street address\n
 \nBring a friend\nBring a snack or beverage \n\n\n
DTSTART;TZID=America/Los_Angeles:20260425T140000
DTEND;TZID=America/Los_Angeles:20260425T170000
LOCATION:TBD\, RSVP for address\, Somewhere\, CA 90000 US
SUMMARY:PSA-SALON
END:VEVENT
END:VCALENDAR
