BEGIN:VCALENDAR
VERSION:2.0
PRODID:-//www.pasadenasocietyofartists.org//NONSGML kigkonsult.se iCalcreat
 or 2.30.10//
CALSCALE:GREGORIAN
METHOD:PUBLISH
UID:38264485-633b-4c36-a50e-70d53037aa65
X-WR-CALDESC:HOURS: \nMonday - Sunday\nNoon - 6:00 pm\nhttps://www.makery.l
 a
X-WR-RELCALID:677628d57ea685daa6fe251d81ddf708
X-WR-TIMEZONE:America/Los_Angeles
BEGIN:VTIMEZONE
TZID:America/Los_Angeles
BEGIN:STANDARD
TZNAME:PST
DTSTART:20251102T020000
TZOFFSETFROM:-0700
TZOFFSETTO:-0800
RDATE:20261101T020000
END:STANDARD
BEGIN:DAYLIGHT
TZNAME:PDT
DTSTART:20260308T020000
TZOFFSETFROM:-0800
TZOFFSETTO:-0700
RDATE:20270314T020000
END:DAYLIGHT
END:VTIMEZONE
BEGIN:VEVENT
UID:15e51313-fab4-4f22-99ac-131ab716e4f8
DTSTAMP:20260424T135914Z
DESCRIPTION:HOURS: \nMonday - Sunday\nNoon - 6:00 pm\nhttps://www.makery.la
DTSTART;TZID=America/Los_Angeles:20260401T120000
DTEND;TZID=America/Los_Angeles:20260430T180000
LOCATION:The Los Angeles Makery\, 260 South Los Angeles Street\, Los Angele
 s\, CA 90012 US
SUMMARY:2026 Juried Art Exhibition (closed Mondays)
END:VEVENT
END:VCALENDAR
