BEGIN:VCALENDAR
VERSION:2.0
PRODID:-//www.pasadenasocietyofartists.org//NONSGML kigkonsult.se iCalcreat
 or 2.30.10//
CALSCALE:GREGORIAN
METHOD:PUBLISH
UID:3b9b208d-2003-439d-b903-ce08503d875b
X-WR-CALDESC:The Gamble House\n4 Westmoreland Place (small\, private street
  parallel to 300 N Orange Grove\nbetween Walnut and Rosemont)\nPasadena\, 
 CA 91103\n\n1:00 Salon / Guided Tour at 3:30 pm\nMembers only/ $10 fee due
  by 2/10/24\n\nPlease come at 12:30 pm and roam the gardens and check out 
 the Bookstore (Doc’s garage).\nThere will be the familiar PSA signage on t
 he south side of the House as you approach.\n\nTheme: Historic reference\n
 Bring 1 small artwork to show and discuss its historic relation to you-how
  an event or object affected your aesthetics\, a person you knew\, or some
 thing you found\, etc. Note that you will be going down a narrow\, circula
 r stairway to the basement. There are also stairs to the second floor and 
 more to the attic.\n\nSnacks and non-alcoholic beverages are welcome.\nCal
 l or text Sharon Jeniye Cohen to confirm attendance.\nCell: 626-429-6312
X-WR-RELCALID:82bd56493455f66d7f93a1356c3b8eb9
X-WR-TIMEZONE:America/Los_Angeles
BEGIN:VTIMEZONE
TZID:America/Los_Angeles
BEGIN:STANDARD
TZNAME:PST
DTSTART:20231105T020000
TZOFFSETFROM:-0700
TZOFFSETTO:-0800
RDATE:20241103T020000
END:STANDARD
BEGIN:DAYLIGHT
TZNAME:PDT
DTSTART:20230312T020000
TZOFFSETFROM:-0800
TZOFFSETTO:-0700
RDATE:20240310T020000
RDATE:20250309T020000
END:DAYLIGHT
END:VTIMEZONE
BEGIN:VEVENT
UID:8c7f82c2-a74d-4fcb-9911-813edaded0e9
DTSTAMP:20260426T025300Z
DESCRIPTION:The Gamble House\n4 Westmoreland Place (small\, private street 
 parallel to 300 N Orange Grove\nbetween Walnut and Rosemont)\nPasadena\, C
 A 91103\n\n1:00 Salon / Guided Tour at 3:30 pm\nMembers only/ $10 fee due 
 by 2/10/24\n\nPlease come at 12:30 pm and roam the gardens and check out t
 he Bookstore (Doc’s garage).\nThere will be the familiar PSA signage on th
 e south side of the House as you approach.\n\nTheme: Historic reference\nB
 ring 1 small artwork to show and discuss its historic relation to you-how 
 an event or object affected your aesthetics\, a person you knew\, or somet
 hing you found\, etc. Note that you will be going down a narrow\, circular
  stairway to the basement. There are also stairs to the second floor and m
 ore to the attic.\n\nSnacks and non-alcoholic beverages are welcome.\nCall
  or text Sharon Jeniye Cohen to confirm attendance.\nCell: 626-429-6312
DTSTART;TZID=America/Los_Angeles:20240217T130000
DTEND;TZID=America/Los_Angeles:20240217T163000
LOCATION:The Gamble House\, 4 Westmoreland Place\, Pasadena\, CA 91103 US
SUMMARY:Artist Salon
END:VEVENT
END:VCALENDAR
