BEGIN:VCALENDAR
VERSION:2.0
PRODID:-//www.pasadenasocietyofartists.org//NONSGML kigkonsult.se iCalcreat
 or 2.30.10//
CALSCALE:GREGORIAN
METHOD:PUBLISH
UID:5271d01f-0711-4d42-9526-31d31abbda3e
X-WR-CALDESC:Bring your new art to show.\nBring a friend.\nBeverages and sn
 acks are welcome.\n\nWe will be outdoors\, weather permitting.\n\nPlease c
 all or text Karen to confirm your attendance.
X-WR-RELCALID:44d36a411c11398e24f245e376054c02
X-WR-TIMEZONE:America/Los_Angeles
BEGIN:VTIMEZONE
TZID:America/Los_Angeles
BEGIN:STANDARD
TZNAME:PST
DTSTART:20231105T020000
TZOFFSETFROM:-0700
TZOFFSETTO:-0800
RDATE:20241103T020000
END:STANDARD
BEGIN:DAYLIGHT
TZNAME:PDT
DTSTART:20230312T020000
TZOFFSETFROM:-0800
TZOFFSETTO:-0700
RDATE:20240310T020000
RDATE:20250309T020000
END:DAYLIGHT
END:VTIMEZONE
BEGIN:VEVENT
UID:81978060-ccdc-4b2f-934a-379ac2b4bc5e
DTSTAMP:20260426T013036Z
DESCRIPTION:Bring your new art to show.\nBring a friend.\nBeverages and sna
 cks are welcome.\n\nWe will be outdoors\, weather permitting.\n\nPlease ca
 ll or text Karen to confirm your attendance.
DTSTART;TZID=America/Los_Angeles:20240121T130000
DTEND;TZID=America/Los_Angeles:20240121T160000
LOCATION:chez-Holgerson\,  1510 New York Dr\, Altadena\, CA 91001 US
SUMMARY:JANUARY SALON
END:VEVENT
END:VCALENDAR
