BEGIN:VCALENDAR
VERSION:2.0
PRODID:-//www.pasadenasocietyofartists.org//NONSGML kigkonsult.se iCalcreat
 or 2.30.10//
CALSCALE:GREGORIAN
METHOD:PUBLISH
UID:5e9e1e9a-4002-4527-801b-193ac7ec412a
X-WR-CALDESC:MEET AND GREET 9:30a-10:00a\nCome socialize before the meeting
 .\n\n10:00 am – 12 pm\nMeeting\, Program\,\nRaffle\, Mini-Grant\nBlinn Hou
 se\, 160 N. Oakland Avenue\, Pasadena\, CA 91101\nEnter on Madison across 
 from the Scottish Rite Temple (between Union & Walnut) – ignore the $5 par
 king signs.\n\n* * *\nPROGRAM:\nKaren Hochman Brown presents:\n'How to mak
 e your exhibition live beyond the show dates?'\nNEXT MEMBER MEETING: Satur
 day\,   February  10\, 2024
X-WR-RELCALID:e59d673bbae6e5b358645af000641944
X-WR-TIMEZONE:America/Los_Angeles
BEGIN:VTIMEZONE
TZID:America/Los_Angeles
BEGIN:STANDARD
TZNAME:PST
DTSTART:20231105T020000
TZOFFSETFROM:-0700
TZOFFSETTO:-0800
RDATE:20241103T020000
END:STANDARD
BEGIN:DAYLIGHT
TZNAME:PDT
DTSTART:20230312T020000
TZOFFSETFROM:-0800
TZOFFSETTO:-0700
RDATE:20240310T020000
RDATE:20250309T020000
END:DAYLIGHT
END:VTIMEZONE
BEGIN:VEVENT
UID:16b543c2-6e7f-4a58-94db-03c5d35efdad
DTSTAMP:20260426T011443Z
DESCRIPTION:MEET AND GREET 9:30a-10:00a\nCome socialize before the meeting.
 \n\n10:00 am – 12 pm\nMeeting\, Program\,\nRaffle\, Mini-Grant\nBlinn Hous
 e\, 160 N. Oakland Avenue\, Pasadena\, CA 91101\nEnter on Madison across f
 rom the Scottish Rite Temple (between Union & Walnut) – ignore the $5 park
 ing signs.\n\n* * *\nPROGRAM:\nKaren Hochman Brown presents:\n'How to make
  your exhibition live beyond the show dates?'\nNEXT MEMBER MEETING: Saturd
 ay\,   February  10\, 2024
DTSTART;TZID=America/Los_Angeles:20240113T093000
DTEND;TZID=America/Los_Angeles:20240113T120000
LOCATION:Blinn House\, 160 N. Oakland Avenue\, Pasadena\, CA 91101 US
SUMMARY:January Meeting
END:VEVENT
END:VCALENDAR
