BEGIN:VCALENDAR
VERSION:2.0
PRODID:-//www.pasadenasocietyofartists.org//NONSGML kigkonsult.se iCalcreat
 or 2.30.10//
CALSCALE:GREGORIAN
METHOD:PUBLISH
UID:d2b40a28-0c42-4964-bb89-8ae8e721e487
X-WR-CALDESC:Juror: Bruce Burr. A former member of PSA and a graduate of th
 e Art Center College of Design Photography program\, Mr. Burr was also a c
 o-owner of the Towns-Burr Gallery in Burbank.\n\nThis exhibition will open
  on Monday\, December 5\, and the Artists’ Reception will be Saturday\, De
 cember 9\, from 2pm to 4pm.\n\nThe exhibition closes Monday\, January 13\,
  2024.
X-WR-RELCALID:cb4d32b31d4313ea8ff7792d9f375214
X-WR-TIMEZONE:America/Los_Angeles
BEGIN:VTIMEZONE
TZID:America/Los_Angeles
BEGIN:STANDARD
TZNAME:PST
DTSTART:20231105T020000
TZOFFSETFROM:-0700
TZOFFSETTO:-0800
RDATE:20241103T020000
END:STANDARD
BEGIN:DAYLIGHT
TZNAME:PDT
DTSTART:20230312T020000
TZOFFSETFROM:-0800
TZOFFSETTO:-0700
RDATE:20240310T020000
RDATE:20250309T020000
END:DAYLIGHT
END:VTIMEZONE
BEGIN:VEVENT
UID:7399b5dd-941c-4efa-9264-9ebc997e6de3
DTSTAMP:20260425T235432Z
DESCRIPTION:Juror: Bruce Burr. A former member of PSA and a graduate of the
  Art Center College of Design Photography program\, Mr. Burr was also a co
 -owner of the Towns-Burr Gallery in Burbank.\n\nThis exhibition will open 
 on Monday\, December 5\, and the Artists’ Reception will be Saturday\, Dec
 ember 9\, from 2pm to 4pm.\n\nThe exhibition closes Monday\, January 13\, 
 2024.
DTSTART;TZID=America/Los_Angeles:20231209T140000
DTEND;TZID=America/Los_Angeles:20231209T160000
LOCATION:Baldwin Avenue Gallery (BAG)\, 12 N Baldwin Ave\, Sierra Madre\, C
 A 91024 US
SUMMARY:FOTO & CLAY Juried Exhibition - Artist Reception
END:VEVENT
END:VCALENDAR
