BEGIN:VCALENDAR
VERSION:2.0
PRODID:-//www.pasadenasocietyofartists.org//NONSGML kigkonsult.se iCalcreat
 or 2.30.10//
CALSCALE:GREGORIAN
METHOD:PUBLISH
UID:955eb013-51b3-410e-8a08-041442148fb7
X-WR-CALDESC:MEET AND GREET 9:30a-10:00a\nCome socialize before the meeting
 .\n\n10:00 am – 12 pm\nMeeting\, Program\,\nRaffle\, Mini-Grant\nBlinn Hou
 se\, 160 N. Oakland Avenue\, Pasadena\, CA 91101\nEnter on Madison across 
 from the Scottish Rite Temple (between Union & Walnut) – ignore the $5 par
 king signs.\n\n* * *\nPROGRAM:\nPlease Join Us and welcome some of our new
  PSA\nmembers!\n4 of them will be presenting:\nJean Cunningham\nChiho Hara
 zaki\nRiachard Murphy\nBruce Trentham\n\nNEXT MEMBER MEETING: Saturday\, J
 anuary 13\, 2024
X-WR-RELCALID:f3bc20cbeecfdc68b8c31a339958841c
X-WR-TIMEZONE:America/Los_Angeles
BEGIN:VTIMEZONE
TZID:America/Los_Angeles
BEGIN:STANDARD
TZNAME:PST
DTSTART:20231105T020000
TZOFFSETFROM:-0700
TZOFFSETTO:-0800
RDATE:20241103T020000
END:STANDARD
BEGIN:DAYLIGHT
TZNAME:PDT
DTSTART:20230312T020000
TZOFFSETFROM:-0800
TZOFFSETTO:-0700
RDATE:20240310T020000
RDATE:20250309T020000
END:DAYLIGHT
END:VTIMEZONE
BEGIN:VEVENT
UID:2a5e65d3-9045-42e7-9da7-f766be46d0c8
DTSTAMP:20260425T235507Z
DESCRIPTION:MEET AND GREET 9:30a-10:00a\nCome socialize before the meeting.
 \n\n10:00 am – 12 pm\nMeeting\, Program\,\nRaffle\, Mini-Grant\nBlinn Hous
 e\, 160 N. Oakland Avenue\, Pasadena\, CA 91101\nEnter on Madison across f
 rom the Scottish Rite Temple (between Union & Walnut) – ignore the $5 park
 ing signs.\n\n* * *\nPROGRAM:\nPlease Join Us and welcome some of our new 
 PSA\nmembers!\n4 of them will be presenting:\nJean Cunningham\nChiho Haraz
 aki\nRiachard Murphy\nBruce Trentham\n\nNEXT MEMBER MEETING: Saturday\, Ja
 nuary 13\, 2024
DTSTART;TZID=America/Los_Angeles:20231209T093000
DTEND;TZID=America/Los_Angeles:20231209T120000
LOCATION:Blinn House\, 160 N. Oakland Avenue\, Pasadena\, CA 91101 US
SUMMARY:December Meeting
END:VEVENT
END:VCALENDAR
