BEGIN:VCALENDAR
VERSION:2.0
PRODID:-//www.pasadenasocietyofartists.org//NONSGML kigkonsult.se iCalcreat
 or 2.30.10//
CALSCALE:GREGORIAN
METHOD:PUBLISH
UID:8e2cd8e8-e826-45f8-8a8e-1c41b5000956
X-WR-CALDESC:Juror: Bruce Burr. A former member of PSA and a graduate of th
 e Art Center College of Design Photography program\, Mr. Burr was also a c
 o-owner of the Towns-Burr Gallery in Burbank.\n\nThis exhibition will open
  on Monday\, December 5\, and the Artists’ Reception will be Saturday\, De
 cember 9\, from 2pm to 4pm.\n\nThe exhibition closes Monday\, January 13\,
  2024.
X-WR-RELCALID:a567b11aef2f574d5334d23d24d71d6c
X-WR-TIMEZONE:America/Los_Angeles
BEGIN:VTIMEZONE
TZID:America/Los_Angeles
BEGIN:STANDARD
TZNAME:PST
DTSTART:20231105T020000
TZOFFSETFROM:-0700
TZOFFSETTO:-0800
RDATE:20241103T020000
END:STANDARD
BEGIN:DAYLIGHT
TZNAME:PDT
DTSTART:20230312T020000
TZOFFSETFROM:-0800
TZOFFSETTO:-0700
RDATE:20240310T020000
RDATE:20250309T020000
END:DAYLIGHT
END:VTIMEZONE
BEGIN:VEVENT
UID:d6c00b7e-ac44-4909-a6de-3a655059eccf
DTSTAMP:20260425T235201Z
DESCRIPTION:Juror: Bruce Burr. A former member of PSA and a graduate of the
  Art Center College of Design Photography program\, Mr. Burr was also a co
 -owner of the Towns-Burr Gallery in Burbank.\n\nThis exhibition will open 
 on Monday\, December 5\, and the Artists’ Reception will be Saturday\, Dec
 ember 9\, from 2pm to 4pm.\n\nThe exhibition closes Monday\, January 13\, 
 2024.
DTSTART;TZID=America/Los_Angeles:20231205T100000
DTEND;TZID=America/Los_Angeles:20231205T140000
LOCATION:Baldwin Avenue Gallery (BAG)\, 12 N. Baldwin Avenue  \, Sierra Mad
 re\, CA 91024 US
SUMMARY:FOTO & CLAY Juried Exhibition--Opening
END:VEVENT
END:VCALENDAR
