BEGIN:VCALENDAR
VERSION:2.0
PRODID:-//www.pasadenasocietyofartists.org//NONSGML kigkonsult.se iCalcreat
 or 2.30.10//
CALSCALE:GREGORIAN
METHOD:PUBLISH
UID:9833e78b-fa7d-47ee-af83-cdb9cf3c6bf8
X-WR-CALDESC:MEET AND GREET 9:30a-10:00a\nCome socialize before the meeting
 .\n\n10:00 am – 12 pm\nMeeting\, Program\,\nRaffle\, Mini-Grant\nBlinn Hou
 se\, 160 N. Oakland Avenue\, Pasadena\, CA 91101\nEnter on Madison across 
 from the Scottish Rite Temple (between Union & Walnut) – ignore the $5 par
 king signs.\n\n* * *\nMEET AND GREET 9:30a-10:00a\nCome socialize before t
 he meeting.\n\nPROGRAM:  The Gamble House — Architecture as Fine Art\n\nNE
 XT MEMBER MEETING: Saturday\, November 11\, 2023
X-WR-RELCALID:83fd3e58e5d2b0c61ce31717f32120d1
X-WR-TIMEZONE:America/Los_Angeles
BEGIN:VTIMEZONE
TZID:America/Los_Angeles
BEGIN:STANDARD
TZNAME:PST
DTSTART:20221106T020000
TZOFFSETFROM:-0700
TZOFFSETTO:-0800
RDATE:20231105T020000
RDATE:20241103T020000
END:STANDARD
BEGIN:DAYLIGHT
TZNAME:PDT
DTSTART:20230312T020000
TZOFFSETFROM:-0800
TZOFFSETTO:-0700
RDATE:20240310T020000
RDATE:20250309T020000
END:DAYLIGHT
END:VTIMEZONE
BEGIN:VEVENT
UID:29e5cf54-0e4c-40a2-a1f9-1ddf62ce4ae6
DTSTAMP:20260425T210108Z
DESCRIPTION:MEET AND GREET 9:30a-10:00a\nCome socialize before the meeting.
 \n\n10:00 am – 12 pm\nMeeting\, Program\,\nRaffle\, Mini-Grant\nBlinn Hous
 e\, 160 N. Oakland Avenue\, Pasadena\, CA 91101\nEnter on Madison across f
 rom the Scottish Rite Temple (between Union & Walnut) – ignore the $5 park
 ing signs.\n\n* * *\nMEET AND GREET 9:30a-10:00a\nCome socialize before th
 e meeting.\n\nPROGRAM:  The Gamble House — Architecture as Fine Art\n\nNEX
 T MEMBER MEETING: Saturday\, November 11\, 2023
DTSTART;TZID=America/Los_Angeles:20231014T093000
DTEND;TZID=America/Los_Angeles:20231014T120000
LOCATION:Blinn House\, 160 N. Oakland Avenue\, Pasadena\, CA 91101 US
SUMMARY:October Meeting
END:VEVENT
END:VCALENDAR
