BEGIN:VCALENDAR
VERSION:2.0
PRODID:-//www.pasadenasocietyofartists.org//NONSGML kigkonsult.se iCalcreat
 or 2.30.10//
CALSCALE:GREGORIAN
METHOD:PUBLISH
UID:71e828af-5168-4dac-9228-abc7a70daa4a
X-WR-CALDESC:
X-WR-RELCALID:4845b29d1d02145aa843c210e523b1a6
X-WR-TIMEZONE:America/Los_Angeles
BEGIN:VTIMEZONE
TZID:America/Los_Angeles
BEGIN:STANDARD
TZNAME:PST
DTSTART:20221106T020000
TZOFFSETFROM:-0700
TZOFFSETTO:-0800
RDATE:20231105T020000
RDATE:20241103T020000
END:STANDARD
BEGIN:DAYLIGHT
TZNAME:PDT
DTSTART:20230312T020000
TZOFFSETFROM:-0800
TZOFFSETTO:-0700
RDATE:20240310T020000
RDATE:20250309T020000
END:DAYLIGHT
END:VTIMEZONE
BEGIN:VEVENT
UID:9819ae93-6399-4941-918f-6992cd0ae699
DTSTAMP:20260425T194345Z
DESCRIPTION:
DTSTART;TZID=America/Los_Angeles:20230930T090000
DTEND;TZID=America/Los_Angeles:20230930T170000
LOCATION:White's Fine Art Gallery\, 2414 Honolulu Avenue\, Montrose\, CA 91
 020 US
SUMMARY:2023 Artist's Choice Exhibition - Closing
END:VEVENT
END:VCALENDAR
