BEGIN:VCALENDAR
VERSION:2.0
PRODID:-//www.pasadenasocietyofartists.org//NONSGML kigkonsult.se iCalcreat
 or 2.30.10//
CALSCALE:GREGORIAN
METHOD:PUBLISH
UID:0ca61289-fcc0-458e-9695-e97d56c50213
X-WR-CALDESC:email if you plan to attend\n\nTopic of the Salon:\nCreative t
 echniques\n\nWhat to bring:\nart to show\, finger-food\, friends are welco
 me
X-WR-RELCALID:ec9f4749b7fb7a8b266f8d7b987b5726
X-WR-TIMEZONE:America/Los_Angeles
BEGIN:VTIMEZONE
TZID:America/Los_Angeles
BEGIN:STANDARD
TZNAME:PST
DTSTART:20221106T020000
TZOFFSETFROM:-0700
TZOFFSETTO:-0800
RDATE:20231105T020000
RDATE:20241103T020000
END:STANDARD
BEGIN:DAYLIGHT
TZNAME:PDT
DTSTART:20230312T020000
TZOFFSETFROM:-0800
TZOFFSETTO:-0700
RDATE:20240310T020000
RDATE:20250309T020000
END:DAYLIGHT
END:VTIMEZONE
BEGIN:VEVENT
UID:56acc47e-7eba-4d71-80b1-c284690d9538
DTSTAMP:20260425T194106Z
DESCRIPTION:email if you plan to attend\n\nTopic of the Salon:\nCreative te
 chniques\n\nWhat to bring:\nart to show\, finger-food\, friends are welcom
 e
DTSTART;TZID=America/Los_Angeles:20230923T130000
DTEND;TZID=America/Los_Angeles:20230923T160000
LOCATION:
SUMMARY:September SALON
END:VEVENT
END:VCALENDAR
