BEGIN:VCALENDAR
VERSION:2.0
PRODID:-//www.pasadenasocietyofartists.org//NONSGML kigkonsult.se iCalcreat
 or 2.30.10//
CALSCALE:GREGORIAN
METHOD:PUBLISH
UID:950a5bfb-4c36-4a4c-b407-aa66ced5e0fe
X-WR-CALDESC:
X-WR-RELCALID:ecc1c0c72d9cee3ae2ff616840f77cf8
X-WR-TIMEZONE:America/Los_Angeles
BEGIN:VTIMEZONE
TZID:America/Los_Angeles
BEGIN:STANDARD
TZNAME:PST
DTSTART:20221106T020000
TZOFFSETFROM:-0700
TZOFFSETTO:-0800
RDATE:20231105T020000
RDATE:20241103T020000
END:STANDARD
BEGIN:DAYLIGHT
TZNAME:PDT
DTSTART:20230312T020000
TZOFFSETFROM:-0800
TZOFFSETTO:-0700
RDATE:20240310T020000
END:DAYLIGHT
END:VTIMEZONE
BEGIN:VEVENT
UID:8c086df9-da3b-4f7c-b4a2-934017bb3f72
DTSTAMP:20260425T195028Z
DESCRIPTION:
DTSTART;TZID=America/Los_Angeles:20230902T140000
DTEND;TZID=America/Los_Angeles:20230902T160000
LOCATION:White's Fine Art Gallery\, 2414 Honolulu Avenue\, Montrose\, CA 91
 020 US
SUMMARY:2023 Artist's Choice Exhibition - Artist Reception
END:VEVENT
END:VCALENDAR
