BEGIN:VCALENDAR
VERSION:2.0
PRODID:-//www.pasadenasocietyofartists.org//NONSGML kigkonsult.se iCalcreat
 or 2.30.10//
CALSCALE:GREGORIAN
METHOD:PUBLISH
UID:5a74fb83-ad0a-434c-a016-9d0a3ea4a050
X-WR-CALDESC:
X-WR-RELCALID:3dd269c3fe76faeb95311c61052e0cc2
X-WR-TIMEZONE:America/Los_Angeles
BEGIN:VTIMEZONE
TZID:America/Los_Angeles
BEGIN:STANDARD
TZNAME:PST
DTSTART:20221106T020000
TZOFFSETFROM:-0700
TZOFFSETTO:-0800
RDATE:20231105T020000
RDATE:20241103T020000
END:STANDARD
BEGIN:DAYLIGHT
TZNAME:PDT
DTSTART:20230312T020000
TZOFFSETFROM:-0800
TZOFFSETTO:-0700
RDATE:20240310T020000
END:DAYLIGHT
END:VTIMEZONE
BEGIN:VEVENT
UID:4ac89e97-ccfe-47e5-83cf-941d794e6cb6
DTSTAMP:20260425T193905Z
DESCRIPTION:
DTSTART;TZID=America/Los_Angeles:20230901T090000
DTEND;TZID=America/Los_Angeles:20230901T170000
LOCATION:White's Fine Art Gallery\, 2414 Honolulu Avenue\, Montrose\, CA 91
 020 US
SUMMARY:2023 Artist's Choice Exhibition - Opening
END:VEVENT
END:VCALENDAR
