BEGIN:VCALENDAR
VERSION:2.0
PRODID:-//www.pasadenasocietyofartists.org//NONSGML kigkonsult.se iCalcreat
 or 2.30.10//
CALSCALE:GREGORIAN
METHOD:PUBLISH
UID:b93c5959-62a6-4c85-b448-8dbfe093b6c5
X-WR-CALDESC:
X-WR-RELCALID:58dbcdbbda6ec69c5be913c6168f1a36
X-WR-TIMEZONE:America/Los_Angeles
BEGIN:VTIMEZONE
TZID:America/Los_Angeles
BEGIN:STANDARD
TZNAME:PST
DTSTART:20221106T020000
TZOFFSETFROM:-0700
TZOFFSETTO:-0800
RDATE:20231105T020000
RDATE:20241103T020000
END:STANDARD
BEGIN:DAYLIGHT
TZNAME:PDT
DTSTART:20230312T020000
TZOFFSETFROM:-0800
TZOFFSETTO:-0700
RDATE:20240310T020000
END:DAYLIGHT
END:VTIMEZONE
BEGIN:VEVENT
UID:383ae09a-23a3-442f-bd67-2433d57d8e2f
DTSTAMP:20260425T181627Z
DESCRIPTION:
DTSTART;TZID=America/Los_Angeles:20230805T150000
DTEND;TZID=America/Los_Angeles:20230805T190000
LOCATION:
SUMMARY:Summer Party
END:VEVENT
END:VCALENDAR
