BEGIN:VCALENDAR
VERSION:2.0
PRODID:-//www.pasadenasocietyofartists.org//NONSGML kigkonsult.se iCalcreat
 or 2.30.10//
CALSCALE:GREGORIAN
METHOD:PUBLISH
UID:690a76c9-6e77-4efc-8fc4-57c251e31532
X-WR-CALDESC:Chez-Weintrub\nBring covered hot or cold dish\, beverage and d
 essert of your choice\nConsider delicious items that are easily served\nMu
 sical instruments are welcome\nLook for PSA signs close to Ken’s address\n
 You can enter the property from Alegria\, or from N Mountain Trail Ave\nth
 is will be outdoors in a large pavilion\nSwimming pool access also as well
  as a place to change into or out of bathing suits\, so\ncome\, relax\, an
 d enjoy!
X-WR-RELCALID:fb50258a787d8696cd9c868f6fd01953
X-WR-TIMEZONE:America/Los_Angeles
BEGIN:VTIMEZONE
TZID:America/Los_Angeles
BEGIN:STANDARD
TZNAME:PST
DTSTART:20221106T020000
TZOFFSETFROM:-0700
TZOFFSETTO:-0800
RDATE:20231105T020000
RDATE:20241103T020000
END:STANDARD
BEGIN:DAYLIGHT
TZNAME:PDT
DTSTART:20230312T020000
TZOFFSETFROM:-0800
TZOFFSETTO:-0700
RDATE:20240310T020000
END:DAYLIGHT
END:VTIMEZONE
BEGIN:VEVENT
UID:a72b9572-c31b-4ffd-9325-3650d155cc60
DTSTAMP:20260425T181818Z
DESCRIPTION:Chez-Weintrub\nBring covered hot or cold dish\, beverage and de
 ssert of your choice\nConsider delicious items that are easily served\nMus
 ical instruments are welcome\nLook for PSA signs close to Ken’s address\nY
 ou can enter the property from Alegria\, or from N Mountain Trail Ave\nthi
 s will be outdoors in a large pavilion\nSwimming pool access also as well 
 as a place to change into or out of bathing suits\, so\ncome\, relax\, and
  enjoy!
DTSTART;TZID=America/Los_Angeles:20230805T160000
DTEND;TZID=America/Los_Angeles:20230805T200000
LOCATION:261 East Alegria\, Sierra Madre\, CA 91024 US
SUMMARY:PSA Summer Potluck Party
END:VEVENT
END:VCALENDAR
