BEGIN:VCALENDAR
VERSION:2.0
PRODID:-//www.pasadenasocietyofartists.org//NONSGML kigkonsult.se iCalcreat
 or 2.30.10//
CALSCALE:GREGORIAN
METHOD:PUBLISH
UID:78e24d18-572e-4fc6-9d27-bf1426770b78
X-WR-CALDESC:
X-WR-RELCALID:42defec316885c2a2a268209ace7fd2c
X-WR-TIMEZONE:America/Los_Angeles
BEGIN:VTIMEZONE
TZID:America/Los_Angeles
BEGIN:STANDARD
TZNAME:PST
DTSTART:20221106T020000
TZOFFSETFROM:-0700
TZOFFSETTO:-0800
RDATE:20231105T020000
RDATE:20241103T020000
END:STANDARD
BEGIN:DAYLIGHT
TZNAME:PDT
DTSTART:20230312T020000
TZOFFSETFROM:-0800
TZOFFSETTO:-0700
RDATE:20240310T020000
END:DAYLIGHT
END:VTIMEZONE
BEGIN:VEVENT
UID:a9354dfa-e054-4a8c-b0c1-66c43b9a72a6
DTSTAMP:20260425T164916Z
DESCRIPTION:
DTSTART;TZID=America/Los_Angeles:20230714T100000
DTEND;TZID=America/Los_Angeles:20230714T170000
LOCATION:Creative Arts Group Art Gallery\, 108 North Baldwin Avenue \, Sier
 ra Madre\, CA 91024 US
SUMMARY:98th Annual Juried Exhibition -- Closes
END:VEVENT
END:VCALENDAR
