BEGIN:VCALENDAR
VERSION:2.0
PRODID:-//www.pasadenasocietyofartists.org//NONSGML kigkonsult.se iCalcreat
 or 2.30.10//
CALSCALE:GREGORIAN
METHOD:PUBLISH
UID:606a45c3-5304-4503-95f1-741963fbb255
X-WR-CALDESC:Dear Artists\,\nThe easiest way to find my place is to come st
 raight up Baldwin Avenue to\nAlegria Avenue (just past Saint Rita Church)\
 , turn right on Alegria and on the\nsecond block\, just past Mountain Trai
 l\, on the left (north) side of the street\nis #261. It is a rather large 
 apartment complex and the salon will be held at\nthe covered patio. You ar
 e encouraged to bring refreshments.\nWe plan to talk about what each of us
  does to break out of the occasional\n“art funk” and feeling of being “stu
 ck” that many artists fall into. Of course\,\nanything else one wants to d
 iscuss will be fine\, and you are encouraged to\nbring a piece or two of y
 our art for discussion and feedback from your peers\nat the salon.\nThank 
 you\,\nKen Weintrub
X-WR-RELCALID:b7904c3b976c4b8364c63064d8f2ed04
X-WR-TIMEZONE:America/Los_Angeles
BEGIN:VTIMEZONE
TZID:America/Los_Angeles
BEGIN:STANDARD
TZNAME:PST
DTSTART:20221106T020000
TZOFFSETFROM:-0700
TZOFFSETTO:-0800
RDATE:20231105T020000
RDATE:20241103T020000
END:STANDARD
BEGIN:DAYLIGHT
TZNAME:PDT
DTSTART:20230312T020000
TZOFFSETFROM:-0800
TZOFFSETTO:-0700
RDATE:20240310T020000
END:DAYLIGHT
END:VTIMEZONE
BEGIN:VEVENT
UID:d7b32565-7de4-400b-9ccf-cb7ff2189c34
DTSTAMP:20260425T153935Z
DESCRIPTION:Dear Artists\,\nThe easiest way to find my place is to come str
 aight up Baldwin Avenue to\nAlegria Avenue (just past Saint Rita Church)\,
  turn right on Alegria and on the\nsecond block\, just past Mountain Trail
 \, on the left (north) side of the street\nis #261. It is a rather large a
 partment complex and the salon will be held at\nthe covered patio. You are
  encouraged to bring refreshments.\nWe plan to talk about what each of us 
 does to break out of the occasional\n“art funk” and feeling of being “stuc
 k” that many artists fall into. Of course\,\nanything else one wants to di
 scuss will be fine\, and you are encouraged to\nbring a piece or two of yo
 ur art for discussion and feedback from your peers\nat the salon.\nThank y
 ou\,\nKen Weintrub
DTSTART;TZID=America/Los_Angeles:20230625T130000
DTEND;TZID=America/Los_Angeles:20230625T160000
LOCATION:chez-Weintrub\, 261 Alegria Ave.\, Sierra Madre\, CA 91024 US
SUMMARY:Artist Salon
END:VEVENT
END:VCALENDAR
