BEGIN:VCALENDAR
VERSION:2.0
PRODID:-//www.pasadenasocietyofartists.org//NONSGML kigkonsult.se iCalcreat
 or 2.30.10//
CALSCALE:GREGORIAN
METHOD:PUBLISH
UID:c39efea7-a781-4f75-b7d5-2bf9140fdd4e
X-WR-CALDESC:MEET AND GREET 9:30a-10:00a\nCome socialize before the meeting
 .\n\n10:00 am – 12 pm\nMeeting\, Program\,\nRaffle\, Mini-Grant\nBlinn Hou
 se\, 160 N. Oakland Avenue\, Pasadena\, CA 91101\nEnter on Madison across 
 from the Scottish Rite Temple (between Union & Walnut) – ignore the $5 par
 king signs.\nNOTE: No member meetings are scheduled in July and August.\nC
 heck your email for upcoming Salons\, the Summer Party & other fun events 
 during the summer.\n* * *\nMEET AND GREET 9:30a-10:00a\nCome socialize bef
 ore the meeting.\n\nPROGRAM: April 2023 New Members\nMeet our newest membe
 rs – juried into PSA in April – view their art and learn about their\nproc
 ess\, what motivates them\, and get to know them!\nWe welcome:\nSharon Jen
 iye Cohen\nPatti Fortlage\nTommy Lei\nGeorge Repetti\nGary Turchow\nMINI-G
 RANT: LAST CHANCE!\nCome for a chance to win the $100 cash mini-grant!\nwo
 n in April\nJune’s winner and all the past Mini-Grant winners will be pres
 enting their adventures\nin how they spent the grant money at our Septembe
 r meeting.\nBarbara Lai Bennett (April) Darien Donner (March)\,\nKaren Hoc
 hman-Brown (February)\, and Robert Van Nguyen (January)\n\nRAFFLE: Conside
 r donating art items\, and enter the raffle for a chance to take home some
  cool art stuff!\nNEXT MEMBER MEETING: Saturday\, September 9\, 2023
X-WR-RELCALID:587ccec25cb20d1a5ecec3be5fd12a45
X-WR-TIMEZONE:America/Los_Angeles
BEGIN:VTIMEZONE
TZID:America/Los_Angeles
BEGIN:STANDARD
TZNAME:PST
DTSTART:20221106T020000
TZOFFSETFROM:-0700
TZOFFSETTO:-0800
RDATE:20231105T020000
RDATE:20241103T020000
END:STANDARD
BEGIN:DAYLIGHT
TZNAME:PDT
DTSTART:20230312T020000
TZOFFSETFROM:-0800
TZOFFSETTO:-0700
RDATE:20240310T020000
END:DAYLIGHT
END:VTIMEZONE
BEGIN:VEVENT
UID:8dde6504-fecd-4cad-b9d2-1dea9b36347f
DTSTAMP:20260425T153426Z
DESCRIPTION:MEET AND GREET 9:30a-10:00a\nCome socialize before the meeting.
 \n\n10:00 am – 12 pm\nMeeting\, Program\,\nRaffle\, Mini-Grant\nBlinn Hous
 e\, 160 N. Oakland Avenue\, Pasadena\, CA 91101\nEnter on Madison across f
 rom the Scottish Rite Temple (between Union & Walnut) – ignore the $5 park
 ing signs.\nNOTE: No member meetings are scheduled in July and August.\nCh
 eck your email for upcoming Salons\, the Summer Party & other fun events d
 uring the summer.\n* * *\nMEET AND GREET 9:30a-10:00a\nCome socialize befo
 re the meeting.\n\nPROGRAM: April 2023 New Members\nMeet our newest member
 s – juried into PSA in April – view their art and learn about their\nproce
 ss\, what motivates them\, and get to know them!\nWe welcome:\nSharon Jeni
 ye Cohen\nPatti Fortlage\nTommy Lei\nGeorge Repetti\nGary Turchow\nMINI-GR
 ANT: LAST CHANCE!\nCome for a chance to win the $100 cash mini-grant!\nwon
  in April\nJune’s winner and all the past Mini-Grant winners will be prese
 nting their adventures\nin how they spent the grant money at our September
  meeting.\nBarbara Lai Bennett (April) Darien Donner (March)\,\nKaren Hoch
 man-Brown (February)\, and Robert Van Nguyen (January)\n\nRAFFLE: Consider
  donating art items\, and enter the raffle for a chance to take home some 
 cool art stuff!\nNEXT MEMBER MEETING: Saturday\, September 9\, 2023
DTSTART;TZID=America/Los_Angeles:20230610T093000
DTEND;TZID=America/Los_Angeles:20230610T120000
LOCATION:Blinn House\, 160 N. Oakland Avenue\, Pasadena\, CA 91101 US
SUMMARY:June Meeting
END:VEVENT
END:VCALENDAR
