BEGIN:VCALENDAR
VERSION:2.0
PRODID:-//www.pasadenasocietyofartists.org//NONSGML kigkonsult.se iCalcreat
 or 2.30.10//
CALSCALE:GREGORIAN
METHOD:PUBLISH
UID:dcdfcdbe-24b8-447d-9db3-7b0eb006cd1b
X-WR-CALDESC:Awards ceremony at 8:00 p.m.
X-WR-RELCALID:d4bbad3b2243c290ac3d62aa6cb90c0b
X-WR-TIMEZONE:America/Los_Angeles
BEGIN:VTIMEZONE
TZID:America/Los_Angeles
BEGIN:STANDARD
TZNAME:PST
DTSTART:20221106T020000
TZOFFSETFROM:-0700
TZOFFSETTO:-0800
RDATE:20231105T020000
RDATE:20241103T020000
END:STANDARD
BEGIN:DAYLIGHT
TZNAME:PDT
DTSTART:20230312T020000
TZOFFSETFROM:-0800
TZOFFSETTO:-0700
RDATE:20240310T020000
END:DAYLIGHT
END:VTIMEZONE
BEGIN:VEVENT
UID:55afcbef-7432-4c6b-b515-61e7debbd7ca
DTSTAMP:20260425T153503Z
DESCRIPTION:Awards ceremony at 8:00 p.m.
DTSTART;TZID=America/Los_Angeles:20230609T190000
DTEND;TZID=America/Los_Angeles:20230609T210000
LOCATION:Creative Arts Group Art Gallery\, 108 North Baldwin Avenue \, Sier
 ra Madre\, CA 91024 US
SUMMARY:98th Annual Juried Exhibition -- Artist Reception
END:VEVENT
END:VCALENDAR
