BEGIN:VCALENDAR
VERSION:2.0
PRODID:-//www.pasadenasocietyofartists.org//NONSGML kigkonsult.se iCalcreat
 or 2.30.10//
CALSCALE:GREGORIAN
METHOD:PUBLISH
UID:7648710d-dbca-477e-90db-d7988a6a2a5d
X-WR-CALDESC:
X-WR-RELCALID:51ce5a71555afc0ab87255b27ac01e9b
X-WR-TIMEZONE:America/Los_Angeles
BEGIN:VTIMEZONE
TZID:America/Los_Angeles
BEGIN:STANDARD
TZNAME:PST
DTSTART:20221106T020000
TZOFFSETFROM:-0700
TZOFFSETTO:-0800
RDATE:20231105T020000
RDATE:20241103T020000
END:STANDARD
BEGIN:DAYLIGHT
TZNAME:PDT
DTSTART:20230312T020000
TZOFFSETFROM:-0800
TZOFFSETTO:-0700
RDATE:20240310T020000
END:DAYLIGHT
END:VTIMEZONE
BEGIN:VEVENT
UID:6753872f-ac97-4555-af4b-076bc7b7948b
DTSTAMP:20260425T153610Z
DESCRIPTION:
DTSTART;TZID=America/Los_Angeles:20230605T100000
DTEND;TZID=America/Los_Angeles:20230605T170000
LOCATION:Creative Arts Group Art Gallery\, 108 North Baldwin Avenue \, Sier
 ra Madre\, CA 91024 US
SUMMARY:98th Annual Juried Exhibition -- Opens
END:VEVENT
END:VCALENDAR
