BEGIN:VCALENDAR
VERSION:2.0
PRODID:-//www.pasadenasocietyofartists.org//NONSGML kigkonsult.se iCalcreat
 or 2.30.10//
CALSCALE:GREGORIAN
METHOD:PUBLISH
UID:dfb04df4-560b-4417-942d-7515bfcc02c6
X-WR-CALDESC:Please call Karen at 626-200-7889 if you plan to attend. \n\nB
 ring finished art and works in progress. \n\nBring a friend\, snacks and b
 everages for a nice salon event.
X-WR-RELCALID:930269851f7e95bc7530f6f92f884a2d
X-WR-TIMEZONE:America/Los_Angeles
BEGIN:VTIMEZONE
TZID:America/Los_Angeles
BEGIN:STANDARD
TZNAME:PST
DTSTART:20221106T020000
TZOFFSETFROM:-0700
TZOFFSETTO:-0800
RDATE:20231105T020000
END:STANDARD
BEGIN:DAYLIGHT
TZNAME:PDT
DTSTART:20230312T020000
TZOFFSETFROM:-0800
TZOFFSETTO:-0700
RDATE:20240310T020000
END:DAYLIGHT
END:VTIMEZONE
BEGIN:VEVENT
UID:2dd1817a-a036-440c-8779-b1f50f165bf6
DTSTAMP:20260425T120048Z
DESCRIPTION:Please call Karen at 626-200-7889 if you plan to attend. \n\nBr
 ing finished art and works in progress. \n\nBring a friend\, snacks and be
 verages for a nice salon event.
DTSTART;TZID=America/Los_Angeles:20230415T140000
DTEND;TZID=America/Los_Angeles:20230415T170000
LOCATION:chez-Holgerson\, 1510 New York Drive\, Altadena\, CA 91001 US
SUMMARY:Artist Salon
END:VEVENT
END:VCALENDAR
