BEGIN:VCALENDAR
VERSION:2.0
PRODID:-//www.pasadenasocietyofartists.org//NONSGML kigkonsult.se iCalcreat
 or 2.30.10//
CALSCALE:GREGORIAN
METHOD:PUBLISH
UID:bcb5e00e-097b-4717-8dff-21982d43d397
X-WR-CALDESC:MEET AND GREET 9:30a-10:00a \nCome socialize before the meetin
 g. \n\n10:00 am – 12 pm  Meeting\, \nPROGRAM BACK BY POPULAR DEMAND: PSA A
 rtists Share Their Work \nBring a piece that you’ve recently finished\, on
 e that you’re working on\, one that you would like some feedback on\, or o
 ne that you’re especially proud of. The number of artists who bring work w
 ill determine how much time each presenter has to share.   Everyone will b
 e able to share at least one piece\, and more if we have time.  \n\nMINI-G
 RANT:  Come for a chance to win the $100 cash mini-grant! Darien Donner wo
 n in March\, Karen Hochman-Brown won in February\, and Robert Van Nguyen w
 on in January - and we can’t wait to see what cool stuff they do with thei
 r grants. \n\nRAFFLE:  Consider donating art items\, and enter the raffle 
 for a chance to take home some cool art stuff!
X-WR-RELCALID:9fb120dd5ec33b1ec3985891bf437f47
X-WR-TIMEZONE:America/Los_Angeles
BEGIN:VTIMEZONE
TZID:America/Los_Angeles
BEGIN:STANDARD
TZNAME:PST
DTSTART:20221106T020000
TZOFFSETFROM:-0700
TZOFFSETTO:-0800
RDATE:20231105T020000
END:STANDARD
BEGIN:DAYLIGHT
TZNAME:PDT
DTSTART:20230312T020000
TZOFFSETFROM:-0800
TZOFFSETTO:-0700
RDATE:20240310T020000
END:DAYLIGHT
END:VTIMEZONE
BEGIN:VEVENT
UID:75223400-89bc-436a-a951-6645e49025e8
DTSTAMP:20260425T120246Z
DESCRIPTION:MEET AND GREET 9:30a-10:00a \nCome socialize before the meeting
 . \n\n10:00 am – 12 pm  Meeting\, \nPROGRAM BACK BY POPULAR DEMAND: PSA Ar
 tists Share Their Work \nBring a piece that you’ve recently finished\, one
  that you’re working on\, one that you would like some feedback on\, or on
 e that you’re especially proud of. The number of artists who bring work wi
 ll determine how much time each presenter has to share.   Everyone will be
  able to share at least one piece\, and more if we have time.  \n\nMINI-GR
 ANT:  Come for a chance to win the $100 cash mini-grant! Darien Donner won
  in March\, Karen Hochman-Brown won in February\, and Robert Van Nguyen wo
 n in January - and we can’t wait to see what cool stuff they do with their
  grants. \n\nRAFFLE:  Consider donating art items\, and enter the raffle f
 or a chance to take home some cool art stuff!
DTSTART;TZID=America/Los_Angeles:20230408T093000
DTEND;TZID=America/Los_Angeles:20230408T120000
LOCATION:Blinn House\, 160 N. Oakland Avenue\, Pasadena\, CA 91101 US
SUMMARY:April Meeting
END:VEVENT
END:VCALENDAR
