BEGIN:VCALENDAR
VERSION:2.0
PRODID:-//www.pasadenasocietyofartists.org//NONSGML kigkonsult.se iCalcreat
 or 2.30.10//
CALSCALE:GREGORIAN
METHOD:PUBLISH
UID:5a6356be-1aa5-46e5-aa8f-53daa7f45a79
X-WR-CALDESC:“SPRINGING INTO YOUR ART” \nWhat turns your crank\, which colo
 rs are beckoning to you\, what moves your brush\, what’s spinning your whe
 els? \nBring finished art\, works in progress\,  bring a friend\, snacks a
 nd beverages for a nice outdoor event.  \nIf you are coming\, send me an e
 mail to: vicpicou@charter.net
X-WR-RELCALID:979e4b3ad6139dbb92d1ce97e973ebd3
X-WR-TIMEZONE:America/Los_Angeles
BEGIN:VTIMEZONE
TZID:America/Los_Angeles
BEGIN:STANDARD
TZNAME:PST
DTSTART:20221106T020000
TZOFFSETFROM:-0700
TZOFFSETTO:-0800
RDATE:20231105T020000
END:STANDARD
BEGIN:DAYLIGHT
TZNAME:PDT
DTSTART:20230312T020000
TZOFFSETFROM:-0800
TZOFFSETTO:-0700
RDATE:20240310T020000
END:DAYLIGHT
END:VTIMEZONE
BEGIN:VEVENT
UID:dd31b078-0cd4-4e56-8d06-b98105c1f817
DTSTAMP:20260425T104337Z
DESCRIPTION:“SPRINGING INTO YOUR ART” \nWhat turns your crank\, which color
 s are beckoning to you\, what moves your brush\, what’s spinning your whee
 ls? \nBring finished art\, works in progress\,  bring a friend\, snacks an
 d beverages for a nice outdoor event.  \nIf you are coming\, send me an em
 ail to: vicpicou@charter.net
DTSTART;TZID=America/Los_Angeles:20230318T140000
DTEND;TZID=America/Los_Angeles:20230318T170000
LOCATION:Vic's Studio - Backyard\, 941 East Verdugo Avenue\, Burbank\, CA 9
 1501 US
SUMMARY:Artist Salon
END:VEVENT
END:VCALENDAR
