BEGIN:VCALENDAR
VERSION:2.0
PRODID:-//www.pasadenasocietyofartists.org//NONSGML kigkonsult.se iCalcreat
 or 2.30.10//
CALSCALE:GREGORIAN
METHOD:PUBLISH
UID:713ef45e-bfde-44b5-8696-5996373484fd
X-WR-CALDESC:MEET AND GREET 9:30a-10:00a \nCome socialize before the meetin
 g. \n\n10:00 am – 12 pm  Meeting\, Program\, Raffle\, Mini-Grant Blinn Hou
 se\n\nPROGRAM:  RICHARD COHEN \nArtist\, musician\, and PSA member Richard
  Cohen will share his glitter portraits with us and describe the technique
 s and process for creating such exceptional pieces. \n\nMINI-GRANT:  Come 
 for a chance to win the $100 cash mini-grant! Robert Van Nguyen won in Jan
 uary and Karen Hochman-Brown won in February –  and we can’t wait to see w
 hat cool stuff they do with their grant. \n\nRAFFLE:  Consider donating ar
 t items\, and enter the raffle for a chance to take home some cool art stu
 ff!
X-WR-RELCALID:69f0d7aaac7cd5c6ebd8798173da2eae
X-WR-TIMEZONE:America/Los_Angeles
BEGIN:VTIMEZONE
TZID:America/Los_Angeles
BEGIN:STANDARD
TZNAME:PST
DTSTART:20221106T020000
TZOFFSETFROM:-0700
TZOFFSETTO:-0800
RDATE:20231105T020000
END:STANDARD
BEGIN:DAYLIGHT
TZNAME:PDT
DTSTART:20220313T020000
TZOFFSETFROM:-0800
TZOFFSETTO:-0700
RDATE:20230312T020000
RDATE:20240310T020000
END:DAYLIGHT
END:VTIMEZONE
BEGIN:VEVENT
UID:bc9ad458-c31a-4c98-a595-55a483ee5a0b
DTSTAMP:20260421T033929Z
DESCRIPTION:MEET AND GREET 9:30a-10:00a \nCome socialize before the meeting
 . \n\n10:00 am – 12 pm  Meeting\, Program\, Raffle\, Mini-Grant Blinn Hous
 e\n\nPROGRAM:  RICHARD COHEN \nArtist\, musician\, and PSA member Richard 
 Cohen will share his glitter portraits with us and describe the techniques
  and process for creating such exceptional pieces. \n\nMINI-GRANT:  Come f
 or a chance to win the $100 cash mini-grant! Robert Van Nguyen won in Janu
 ary and Karen Hochman-Brown won in February –  and we can’t wait to see wh
 at cool stuff they do with their grant. \n\nRAFFLE:  Consider donating art
  items\, and enter the raffle for a chance to take home some cool art stuf
 f!
DTSTART;TZID=America/Los_Angeles:20230311T093000
DTEND;TZID=America/Los_Angeles:20230311T120000
LOCATION:Blinn House\, 160 N. Oakland Avenue\, Pasadena\, CA 91101 US
SUMMARY:March Meeting
END:VEVENT
END:VCALENDAR
