BEGIN:VCALENDAR
VERSION:2.0
PRODID:-//www.pasadenasocietyofartists.org//NONSGML kigkonsult.se iCalcreat
 or 2.30.10//
CALSCALE:GREGORIAN
METHOD:PUBLISH
UID:ddfec450-01a6-468e-9870-1a9e929a9160
X-WR-CALDESC:Our salon will be on the shaded lawn or shaded patio. (no alco
 holic beverages allowed) \n\nTopics \n1.  Major factors that influence you
 r art. Bring one or two examples of your work. \n2.  Offer ideas for new e
 xterior colors for Art House. Korey Wyatt\, co-owner of Art House\, will l
 ead a discussion of ideas for new exterior colors and decorative features 
 for the building. Art House helps LGBTQ artists in recovery spark unexpect
 ed insights and understanding. Their mission is to host and facilitate art
 ists’ workshops and artists’ organization events. \nPSA was hosted by Art 
 House for our Open Studios before the pandemic. \n\nThank you\,\nVic Picou
 \, Salon Co-ordinator\n
X-WR-RELCALID:174c74b9ed241e93ad3c108bc27ddac9
X-WR-TIMEZONE:America/Los_Angeles
BEGIN:VTIMEZONE
TZID:America/Los_Angeles
BEGIN:STANDARD
TZNAME:PST
DTSTART:20211107T020000
TZOFFSETFROM:-0700
TZOFFSETTO:-0800
RDATE:20221106T020000
RDATE:20231105T020000
END:STANDARD
BEGIN:DAYLIGHT
TZNAME:PDT
DTSTART:20220313T020000
TZOFFSETFROM:-0800
TZOFFSETTO:-0700
RDATE:20230312T020000
RDATE:20240310T020000
END:DAYLIGHT
END:VTIMEZONE
BEGIN:VEVENT
UID:9408bd5f-47bd-413a-b15d-3d16a831fc3a
DTSTAMP:20260425T034134Z
DESCRIPTION:Our salon will be on the shaded lawn or shaded patio. (no alcoh
 olic beverages allowed) \n\nTopics \n1.  Major factors that influence your
  art. Bring one or two examples of your work. \n2.  Offer ideas for new ex
 terior colors for Art House. Korey Wyatt\, co-owner of Art House\, will le
 ad a discussion of ideas for new exterior colors and decorative features f
 or the building. Art House helps LGBTQ artists in recovery spark unexpecte
 d insights and understanding. Their mission is to host and facilitate arti
 sts’ workshops and artists’ organization events. \nPSA was hosted by Art H
 ouse for our Open Studios before the pandemic. \n\nThank you\,\nVic Picou\
 , Salon Co-ordinator\n
DTSTART;TZID=America/Los_Angeles:20221016T140000
DTEND;TZID=America/Los_Angeles:20221016T170000
LOCATION:ARTHOUSE PASADENA\, 1646 N Fair Oaks Ave\, Pasadena\, CA 91103 US
SUMMARY:OCTOBER PSA SALON
END:VEVENT
END:VCALENDAR
