BEGIN:VCALENDAR
VERSION:2.0
PRODID:-//www.pasadenasocietyofartists.org//NONSGML kigkonsult.se iCalcreat
 or 2.30.10//
CALSCALE:GREGORIAN
METHOD:PUBLISH
UID:76c93491-206f-492b-9633-3db8762561a1
X-WR-CALDESC:
X-WR-RELCALID:f3763430f0b21d10fb6d5156e044e76f
X-WR-TIMEZONE:America/Los_Angeles
BEGIN:VTIMEZONE
TZID:America/Los_Angeles
BEGIN:STANDARD
TZNAME:PST
DTSTART:20211107T020000
TZOFFSETFROM:-0700
TZOFFSETTO:-0800
RDATE:20221106T020000
RDATE:20231105T020000
END:STANDARD
BEGIN:DAYLIGHT
TZNAME:PDT
DTSTART:20220313T020000
TZOFFSETFROM:-0800
TZOFFSETTO:-0700
RDATE:20230312T020000
RDATE:20240310T020000
END:DAYLIGHT
END:VTIMEZONE
BEGIN:VEVENT
UID:c97beec0-3898-468b-a557-3cc10bae1508
DTSTAMP:20260425T034303Z
DESCRIPTION:
DTSTART;TZID=America/Los_Angeles:20221001T160000
DTEND;TZID=America/Los_Angeles:20221001T180000
LOCATION:Whites Fine Art Gallery\, 2414 Honolulu Ave.\,  Montrose\, CA 9102
 2 US
SUMMARY:RECEPTION: ARTIST’S CHOICE 2022
END:VEVENT
END:VCALENDAR
