BEGIN:VCALENDAR
VERSION:2.0
PRODID:-//www.pasadenasocietyofartists.org//NONSGML kigkonsult.se iCalcreat
 or 2.30.10//
CALSCALE:GREGORIAN
METHOD:PUBLISH
UID:6024ed49-1b79-4b7b-af0c-0f4324d790de
X-WR-CALDESC:Exchanging thoughts / Inspiration \n\nIf you and/or a friend w
 ould like to attend email LORE at lore@loreeckelberry.com \nso she knows h
 ow many are coming. Let her know what you would like to contribute to the 
 patio table.\n\nPlease bring one or two small works of art to share\n\nVic
  Picou\, Salon Coordinator
X-WR-RELCALID:9a4d0da1933efc3413239ae2f5f20976
X-WR-TIMEZONE:America/Los_Angeles
BEGIN:VTIMEZONE
TZID:America/Los_Angeles
BEGIN:STANDARD
TZNAME:PST
DTSTART:20211107T020000
TZOFFSETFROM:-0700
TZOFFSETTO:-0800
RDATE:20221106T020000
RDATE:20231105T020000
END:STANDARD
BEGIN:DAYLIGHT
TZNAME:PDT
DTSTART:20220313T020000
TZOFFSETFROM:-0800
TZOFFSETTO:-0700
RDATE:20230312T020000
RDATE:20240310T020000
END:DAYLIGHT
END:VTIMEZONE
BEGIN:VEVENT
UID:503b8378-968f-4aa5-8bb8-b93adb37582c
DTSTAMP:20260425T021325Z
DESCRIPTION:Exchanging thoughts / Inspiration \n\nIf you and/or a friend wo
 uld like to attend email LORE at lore@loreeckelberry.com \nso she knows ho
 w many are coming. Let her know what you would like to contribute to the p
 atio table.\n\nPlease bring one or two small works of art to share\n\nVic 
 Picou\, Salon Coordinator
DTSTART;TZID=America/Los_Angeles:20220917T150000
DTEND;TZID=America/Los_Angeles:20220917T180000
LOCATION:chez-ECKELBERRY\, 4535 Gainsborough Ave\, Los Feliz\, CA 90027 US
SUMMARY:SEPTEMBER PSA SALON
END:VEVENT
END:VCALENDAR
