BEGIN:VCALENDAR
VERSION:2.0
PRODID:-//www.pasadenasocietyofartists.org//NONSGML kigkonsult.se iCalcreat
 or 2.30.10//
CALSCALE:GREGORIAN
METHOD:PUBLISH
UID:155a975b-2305-4cb4-abad-191980f2e743
X-WR-CALDESC:
X-WR-RELCALID:63be7b0db135e6418042d86e1cdebec9
X-WR-TIMEZONE:America/Los_Angeles
BEGIN:VTIMEZONE
TZID:America/Los_Angeles
BEGIN:STANDARD
TZNAME:PST
DTSTART:20211107T020000
TZOFFSETFROM:-0700
TZOFFSETTO:-0800
RDATE:20221106T020000
RDATE:20231105T020000
END:STANDARD
BEGIN:DAYLIGHT
TZNAME:PDT
DTSTART:20220313T020000
TZOFFSETFROM:-0800
TZOFFSETTO:-0700
RDATE:20230312T020000
END:DAYLIGHT
END:VTIMEZONE
BEGIN:VEVENT
UID:874f92d1-3c66-45ce-bea3-3fadcdd4c919
DTSTAMP:20260425T003553Z
DESCRIPTION:
DTSTART;TZID=America/Los_Angeles:20220813T160000
DTEND;TZID=America/Los_Angeles:20220813T200000
LOCATION:
SUMMARY:Summer Party
END:VEVENT
END:VCALENDAR
