BEGIN:VCALENDAR
VERSION:2.0
PRODID:-//www.pasadenasocietyofartists.org//NONSGML kigkonsult.se iCalcreat
 or 2.30.10//
CALSCALE:GREGORIAN
METHOD:PUBLISH
UID:64aaf021-88db-4d6b-a81c-77ed72aade4f
X-WR-CALDESC:June's salon is hosted by Barbara Thorn on her large deck unde
 r a 200 year old oak tree\, uphill from beautiful downtown Burbank.  Bring
  some new art to share\, a beverage and/or snacks to share.  Friends are w
 elcome.\n\nEmail Barbara to sign up.  You will receive her home address by
  noon on June 18th.      \nIf you would like to host a Salon in July or an
 y other month\, please email me.\n\nVic Picou\, Salon Coordinator
X-WR-RELCALID:7423a7a09ea86ef53e004400926a31c7
X-WR-TIMEZONE:America/Los_Angeles
BEGIN:VTIMEZONE
TZID:America/Los_Angeles
BEGIN:STANDARD
TZNAME:PST
DTSTART:20211107T020000
TZOFFSETFROM:-0700
TZOFFSETTO:-0800
RDATE:20221106T020000
RDATE:20231105T020000
END:STANDARD
BEGIN:DAYLIGHT
TZNAME:PDT
DTSTART:20220313T020000
TZOFFSETFROM:-0800
TZOFFSETTO:-0700
RDATE:20230312T020000
END:DAYLIGHT
END:VTIMEZONE
BEGIN:VEVENT
UID:bac1746e-1474-42a0-8d98-180817635031
DTSTAMP:20260424T212513Z
DESCRIPTION:June's salon is hosted by Barbara Thorn on her large deck under
  a 200 year old oak tree\, uphill from beautiful downtown Burbank.  Bring 
 some new art to share\, a beverage and/or snacks to share.  Friends are we
 lcome.\n\nEmail Barbara to sign up.  You will receive her home address by 
 noon on June 18th.      \nIf you would like to host a Salon in July or any
  other month\, please email me.\n\nVic Picou\, Salon Coordinator
DTSTART;TZID=America/Los_Angeles:20220618T140000
DTEND;TZID=America/Los_Angeles:20220618T170000
LOCATION:chez-Thorn\, Burbank\, CA 91501 US
SUMMARY:JUNE PSA SALON
END:VEVENT
END:VCALENDAR
