BEGIN:VCALENDAR
VERSION:2.0
PRODID:-//www.pasadenasocietyofartists.org//NONSGML kigkonsult.se iCalcreat
 or 2.30.10//
CALSCALE:GREGORIAN
METHOD:PUBLISH
UID:61ec5358-cd95-4c42-893d-98e7d28e1916
X-WR-CALDESC:Parking:  165 N. Madison Avenue (Blinn House lot)\, second dri
 ve on the right south of Walnut Street.
X-WR-RELCALID:d3c94f21b96575e97a38df73579d79d2
X-WR-TIMEZONE:America/Los_Angeles
BEGIN:VTIMEZONE
TZID:America/Los_Angeles
BEGIN:STANDARD
TZNAME:PST
DTSTART:20211107T020000
TZOFFSETFROM:-0700
TZOFFSETTO:-0800
RDATE:20221106T020000
RDATE:20231105T020000
END:STANDARD
BEGIN:DAYLIGHT
TZNAME:PDT
DTSTART:20220313T020000
TZOFFSETFROM:-0800
TZOFFSETTO:-0700
RDATE:20230312T020000
END:DAYLIGHT
END:VTIMEZONE
BEGIN:VEVENT
UID:073008cb-f25f-43bb-89b9-d8e51a9e2f0a
DTSTAMP:20260423T182731Z
DESCRIPTION:Parking:  165 N. Madison Avenue (Blinn House lot)\, second driv
 e on the right south of Walnut Street.
DTSTART;TZID=America/Los_Angeles:20220611T100000
DTEND;TZID=America/Los_Angeles:20220611T120000
LOCATION:Blinn House\, 160 N. Oakland Avenue\, Pasadena\, CA 91101 US
SUMMARY:JUNE ANNUAL MEMBER MEETING
END:VEVENT
END:VCALENDAR
