BEGIN:VCALENDAR
VERSION:2.0
PRODID:-//www.pasadenasocietyofartists.org//NONSGML kigkonsult.se iCalcreat
 or 2.30.10//
CALSCALE:GREGORIAN
METHOD:PUBLISH
UID:f2d83a27-8003-4b49-a9d9-ac9c6d1f6666
X-WR-CALDESC:Come share your art with others.\nWhat new discoveries\, mater
 ial\, or techniques\, have you made recently?\n\nYou are welcome to bring 
 a friend\, and also finger food/snacks and/or beverage.\n\nPlease RSVP bef
 ore NOON\, 5/28--karenholgerson@gmail.com\n
X-WR-RELCALID:8fe3e5fefe0083839979783193482514
X-WR-TIMEZONE:America/Los_Angeles
BEGIN:VTIMEZONE
TZID:America/Los_Angeles
BEGIN:STANDARD
TZNAME:PST
DTSTART:20211107T020000
TZOFFSETFROM:-0700
TZOFFSETTO:-0800
RDATE:20221106T020000
RDATE:20231105T020000
END:STANDARD
BEGIN:DAYLIGHT
TZNAME:PDT
DTSTART:20220313T020000
TZOFFSETFROM:-0800
TZOFFSETTO:-0700
RDATE:20230312T020000
END:DAYLIGHT
END:VTIMEZONE
BEGIN:VEVENT
UID:9d4343dd-6fbc-4f19-b1ff-20bedffc6d0b
DTSTAMP:20260424T194250Z
DESCRIPTION:Come share your art with others.\nWhat new discoveries\, materi
 al\, or techniques\, have you made recently?\n\nYou are welcome to bring a
  friend\, and also finger food/snacks and/or beverage.\n\nPlease RSVP befo
 re NOON\, 5/28--karenholgerson@gmail.com\n
DTSTART;TZID=America/Los_Angeles:20220528T140000
DTEND;TZID=America/Los_Angeles:20220528T170000
LOCATION:chez-Holgerson\, 1510 New York Drive\, Altadena\, CA 91001 US
SUMMARY:MAY PSA SALON
END:VEVENT
END:VCALENDAR
