BEGIN:VCALENDAR
VERSION:2.0
PRODID:-//www.pasadenasocietyofartists.org//NONSGML kigkonsult.se iCalcreat
 or 2.30.10//
CALSCALE:GREGORIAN
METHOD:PUBLISH
UID:bb522e58-588e-475c-b8df-8b0b90fce78c
X-WR-CALDESC:The meeting will be at Kathleen Swaydan's home studio and back
 yard.\n3061 Ridgeview Drive\nAltadena\, CA  91001\n\nPlease bring your own
  chair and\, because of COVID\, your own snacks.  PSA will provide water a
 nd sodas.\n\nWe’re back!  And we’re starting a new program of sharing our 
 art and getting feedback from our member friends.  \n\nAre you stuck?  Do 
 you want friendly feedback about your work?  Do you want to see work that 
 other members are creating?  Do you want to connect with friends and make 
 new ones?  Do you want to talk about art?   Then come to our March meeting
  and Art Critique.  \n\nDon’t be alarmed by the word ‘critique’. \nIt does
  not mean critical\, and we have one rule:  \ncomments must be articulate\
 , kind and specific.  Just saying “I like it.” or “I don’t like it.” isn’t
  allowed.  What do you like?  Is there a specific suggestion that would he
 lp the piece be stronger?  What was your first impression of the work?  \n
 \nHere’s how it works:\n\n·  Bring one artwork.  It could be a work in pro
 gress\, or a work that is ‘almost’ finished\, or fully finished.\n\n·     
 Participants will have 5 minutes to discuss their work:  their inspiration
 \, their process\, and any challenges they had/have with the piece\n\n·   
   The audience will have 5 minutes to respond with what they see\, make su
 ggestions\, or offer comments.    \n\n·    Participants will be chosen at 
 random – names drawn out of a basket.\n\n·    The number of participants w
 ill be determined by how many show up and how much time we have.   Those w
 ho are not able to present this month will get “first dibs” for next month
 ’s drawing.
X-WR-RELCALID:c727a8431a90c90408ed56c4f069af2a
X-WR-TIMEZONE:America/Los_Angeles
BEGIN:VTIMEZONE
TZID:America/Los_Angeles
BEGIN:STANDARD
TZNAME:PST
DTSTART:20211107T020000
TZOFFSETFROM:-0700
TZOFFSETTO:-0800
RDATE:20221106T020000
RDATE:20231105T020000
END:STANDARD
BEGIN:DAYLIGHT
TZNAME:PDT
DTSTART:20220313T020000
TZOFFSETFROM:-0800
TZOFFSETTO:-0700
RDATE:20230312T020000
END:DAYLIGHT
END:VTIMEZONE
BEGIN:VEVENT
UID:154024ac-69b2-41d6-8981-0d04d8a58239
DTSTAMP:20260424T194946Z
DESCRIPTION:The meeting will be at Kathleen Swaydan's home studio and backy
 ard.\n3061 Ridgeview Drive\nAltadena\, CA  91001\n\nPlease bring your own 
 chair and\, because of COVID\, your own snacks.  PSA will provide water an
 d sodas.\n\nWe’re back!  And we’re starting a new program of sharing our a
 rt and getting feedback from our member friends.  \n\nAre you stuck?  Do y
 ou want friendly feedback about your work?  Do you want to see work that o
 ther members are creating?  Do you want to connect with friends and make n
 ew ones?  Do you want to talk about art?   Then come to our March meeting 
 and Art Critique.  \n\nDon’t be alarmed by the word ‘critique’. \nIt does 
 not mean critical\, and we have one rule:  \ncomments must be articulate\,
  kind and specific.  Just saying “I like it.” or “I don’t like it.” isn’t 
 allowed.  What do you like?  Is there a specific suggestion that would hel
 p the piece be stronger?  What was your first impression of the work?  \n
 \nHere’s how it works:\n\n·  Bring one artwork.  It could be a work in pro
 gress\, or a work that is ‘almost’ finished\, or fully finished.\n\n·     
 Participants will have 5 minutes to discuss their work:  their inspiration
 \, their process\, and any challenges they had/have with the piece\n\n·   
   The audience will have 5 minutes to respond with what they see\, make su
 ggestions\, or offer comments.    \n\n·    Participants will be chosen at 
 random – names drawn out of a basket.\n\n·    The number of participants w
 ill be determined by how many show up and how much time we have.   Those w
 ho are not able to present this month will get “first dibs” for next month
 ’s drawing.
DTSTART;TZID=America/Los_Angeles:20220514T100000
DTEND;TZID=America/Los_Angeles:20220514T120000
LOCATION:
SUMMARY:MAY MEMBER MEETING and Art Critique!
END:VEVENT
END:VCALENDAR
