BEGIN:VCALENDAR
VERSION:2.0
PRODID:-//www.pasadenasocietyofartists.org//NONSGML kigkonsult.se iCalcreat
 or 2.30.10//
CALSCALE:GREGORIAN
METHOD:PUBLISH
UID:ae176ada-711e-428a-8d75-9267c0fdf5a6
X-WR-CALDESC:Betsy Lueke Creative Arts Center Gallery \n1100 West Clark Ave
 nue Burbank 91505\n\n818-238-5397 Gallery hours: Monday - Thursday 9am - 9
 pm Friday 9am - 7pm  Saturday 9am - 1pm  \nhttps://www.burbankca.gov/web/p
 arks-recreation/betsy-lueke-creative-arts-center
X-WR-RELCALID:52af444933b9d28eac2470f910120049
X-WR-TIMEZONE:America/Los_Angeles
BEGIN:VTIMEZONE
TZID:America/Los_Angeles
BEGIN:STANDARD
TZNAME:PST
DTSTART:20211107T020000
TZOFFSETFROM:-0700
TZOFFSETTO:-0800
RDATE:20221106T020000
END:STANDARD
BEGIN:DAYLIGHT
TZNAME:PDT
DTSTART:20220313T020000
TZOFFSETFROM:-0800
TZOFFSETTO:-0700
RDATE:20230312T020000
END:DAYLIGHT
END:VTIMEZONE
BEGIN:VEVENT
UID:18846cc4-f9ad-4512-abf0-29f905cca84a
DTSTAMP:20260424T193404Z
DESCRIPTION:Betsy Lueke Creative Arts Center Gallery \n1100 West Clark Aven
 ue Burbank 91505\n\n818-238-5397 Gallery hours: Monday - Thursday 9am - 9p
 m Friday 9am - 7pm  Saturday 9am - 1pm  \nhttps://www.burbankca.gov/web/pa
 rks-recreation/betsy-lueke-creative-arts-center
DTSTART;TZID=America/Los_Angeles:20220502T000000
DTEND;TZID=America/Los_Angeles:20220527T235900
LOCATION:
SUMMARY:97th Annual Juried Exhibition
END:VEVENT
END:VCALENDAR
