BEGIN:VCALENDAR
VERSION:2.0
PRODID:-//www.pasadenasocietyofartists.org//NONSGML kigkonsult.se iCalcreat
 or 2.30.10//
CALSCALE:GREGORIAN
METHOD:PUBLISH
UID:7b28e345-ed23-48a9-a168-9a1f24661cc9
X-WR-CALDESC:Bring art to share and also a friend\nBring finger food snacks
  or beverage\nCovid Vaccinations required. \n\nNo need to confirm attendan
 ce\, just come by! \n
X-WR-RELCALID:073d37863b392c3b6cd267b6e80e1a4e
X-WR-TIMEZONE:America/Los_Angeles
BEGIN:VTIMEZONE
TZID:America/Los_Angeles
BEGIN:STANDARD
TZNAME:PST
DTSTART:20211107T020000
TZOFFSETFROM:-0700
TZOFFSETTO:-0800
RDATE:20221106T020000
END:STANDARD
BEGIN:DAYLIGHT
TZNAME:PDT
DTSTART:20210314T020000
TZOFFSETFROM:-0800
TZOFFSETTO:-0700
RDATE:20220313T020000
RDATE:20230312T020000
END:DAYLIGHT
END:VTIMEZONE
BEGIN:VEVENT
UID:7cf131c3-d7e8-49ad-8674-d3ec3fbefe52
DTSTAMP:20260424T212834Z
DESCRIPTION:Bring art to share and also a friend\nBring finger food snacks 
 or beverage\nCovid Vaccinations required. \n\nNo need to confirm attendanc
 e\, just come by! \n
DTSTART;TZID=America/Los_Angeles:20220226T140000
DTEND;TZID=America/Los_Angeles:20220226T170000
LOCATION:662 East Calaveras Street\, Altadena\, CA 91001 US
SUMMARY:PSA SALON - ARTIST TO ARTIST
END:VEVENT
END:VCALENDAR
