BEGIN:VCALENDAR
VERSION:2.0
PRODID:-//www.pasadenasocietyofartists.org//NONSGML kigkonsult.se iCalcreat
 or 2.30.10//
CALSCALE:GREGORIAN
METHOD:PUBLISH
UID:e2f67701-59fb-4c8b-bf3b-5b624c37c337
X-WR-CALDESC:All works for sale under $100\nRain or Shine
X-WR-RELCALID:cabf5637fa0ede97b53e782d01072c80
X-WR-TIMEZONE:America/Los_Angeles
BEGIN:VTIMEZONE
TZID:America/Los_Angeles
BEGIN:STANDARD
TZNAME:PST
DTSTART:20211107T020000
TZOFFSETFROM:-0700
TZOFFSETTO:-0800
RDATE:20221106T020000
END:STANDARD
BEGIN:DAYLIGHT
TZNAME:PDT
DTSTART:20210314T020000
TZOFFSETFROM:-0800
TZOFFSETTO:-0700
RDATE:20220313T020000
RDATE:20230312T020000
END:DAYLIGHT
END:VTIMEZONE
BEGIN:VEVENT
UID:77b2c8f5-0c14-4045-87ac-bd19dc3c04c1
DTSTAMP:20260420T064209Z
DESCRIPTION:All works for sale under $100\nRain or Shine
DTSTART;TZID=America/Los_Angeles:20211211T100000
DTEND;TZID=America/Los_Angeles:20211211T160000
LOCATION:3061 Ridgeview Drive\, Altadena\, CA 91001 US
SUMMARY:Small Works Holiday Sale Pop-up
END:VEVENT
END:VCALENDAR
