BEGIN:VCALENDAR
VERSION:2.0
PRODID:-//www.pasadenasocietyofartists.org//NONSGML kigkonsult.se iCalcreat
 or 2.30.10//
CALSCALE:GREGORIAN
METHOD:PUBLISH
UID:be6b9116-f812-4ff1-bbdc-deac72e75a1b
X-WR-CALDESC:PSA members and friends welcome \n** COVID-19 vaccination requ
 ired. **\nPlease bring artwork in progress or completed.  Beverages and sn
 acks appreciated. \nTopic: The Art of Creativity. \nRSVP: lore@loreeckelbe
 rry.com
X-WR-RELCALID:37bf4b05427c791181a9d630ee366599
X-WR-TIMEZONE:America/Los_Angeles
BEGIN:VTIMEZONE
TZID:America/Los_Angeles
BEGIN:STANDARD
TZNAME:PST
DTSTART:20211107T020000
TZOFFSETFROM:-0700
TZOFFSETTO:-0800
RDATE:20221106T020000
END:STANDARD
BEGIN:DAYLIGHT
TZNAME:PDT
DTSTART:20210314T020000
TZOFFSETFROM:-0800
TZOFFSETTO:-0700
RDATE:20220313T020000
RDATE:20230312T020000
END:DAYLIGHT
END:VTIMEZONE
BEGIN:VEVENT
UID:a56c9d39-6c93-42b2-9104-04b046f8cb31
DTSTAMP:20260420T081758Z
DESCRIPTION:PSA members and friends welcome \n** COVID-19 vaccination requi
 red. **\nPlease bring artwork in progress or completed.  Beverages and sna
 cks appreciated. \nTopic: The Art of Creativity. \nRSVP: lore@loreeckelber
 ry.com
DTSTART;TZID=America/Los_Angeles:20211121T143000
DTEND;TZID=America/Los_Angeles:20211121T170000
LOCATION:chez-Knecht
SUMMARY:November Salon
END:VEVENT
END:VCALENDAR
