BEGIN:VCALENDAR
VERSION:2.0
PRODID:-//www.pasadenasocietyofartists.org//NONSGML kigkonsult.se iCalcreat
 or 2.30.10//
CALSCALE:GREGORIAN
METHOD:PUBLISH
UID:33f9e23b-87a7-4354-8dbb-51c552771a41
X-WR-CALDESC:Board Meeting: 10 am to 12 pm\nGeneral Meeting (for members): 
  12 pm to 2 pm\n\nBecause of the surge of the Delta variant of the virus\,
  we respectfully ask that everyone take appropriate measures to keep us al
 l safe.
X-WR-RELCALID:9abd46083d4475c522f912846a5bc4d2
X-WR-TIMEZONE:America/Los_Angeles
BEGIN:VTIMEZONE
TZID:America/Los_Angeles
BEGIN:STANDARD
TZNAME:PST
DTSTART:20211107T020000
TZOFFSETFROM:-0700
TZOFFSETTO:-0800
RDATE:20221106T020000
END:STANDARD
BEGIN:DAYLIGHT
TZNAME:PDT
DTSTART:20210314T020000
TZOFFSETFROM:-0800
TZOFFSETTO:-0700
RDATE:20220313T020000
RDATE:20230312T020000
END:DAYLIGHT
END:VTIMEZONE
BEGIN:VEVENT
UID:ec8ecb8c-0134-4326-b071-f56282ccae5f
DTSTAMP:20260420T081033Z
DESCRIPTION:Board Meeting: 10 am to 12 pm\nGeneral Meeting (for members):  
 12 pm to 2 pm\n\nBecause of the surge of the Delta variant of the virus\, 
 we respectfully ask that everyone take appropriate measures to keep us all
  safe.
DTSTART;TZID=America/Los_Angeles:20211113T120000
DTEND;TZID=America/Los_Angeles:20211113T140000
LOCATION:Farnsworth Park\, Altadena (meeting will be outside at tables or a
 mphitheater depending on availability)
SUMMARY:November Member Meeting
END:VEVENT
END:VCALENDAR
