BEGIN:VCALENDAR
VERSION:2.0
PRODID:-//www.pasadenasocietyofartists.org//NONSGML kigkonsult.se iCalcreat
 or 2.30.10//
CALSCALE:GREGORIAN
METHOD:PUBLISH
UID:4a761f93-7ce8-4d04-81e8-df81abea11c7
X-WR-CALDESC:
X-WR-RELCALID:55c96c8a44066ecb790783b3c0458d78
X-WR-TIMEZONE:America/Los_Angeles
BEGIN:VTIMEZONE
TZID:America/Los_Angeles
BEGIN:STANDARD
TZNAME:PST
DTSTART:20211107T020000
TZOFFSETFROM:-0700
TZOFFSETTO:-0800
RDATE:20221106T020000
END:STANDARD
BEGIN:DAYLIGHT
TZNAME:PDT
DTSTART:20210314T020000
TZOFFSETFROM:-0800
TZOFFSETTO:-0700
RDATE:20220313T020000
RDATE:20230312T020000
END:DAYLIGHT
END:VTIMEZONE
BEGIN:VEVENT
UID:30635eba-8cfc-422d-a9fc-e9d4b371819d
DTSTAMP:20260420T081359Z
DESCRIPTION:
DTSTART;TZID=America/Los_Angeles:20211113T090000
DTEND;TZID=America/Los_Angeles:20211113T170000
LOCATION:Whites Fine Art Gallery 2414 Honolulu Avenue\, Montrose\, CA 91020
  818-957-4071  www.whitesfineart.com  Gallery Hours:  Tuesday – Saturday 9
  am – 5 pm
SUMMARY:96th Annual Juried Exhibition  -  CLOSES
END:VEVENT
END:VCALENDAR
