BEGIN:VCALENDAR
VERSION:2.0
PRODID:-//www.pasadenasocietyofartists.org//NONSGML kigkonsult.se iCalcreat
 or 2.30.10//
CALSCALE:GREGORIAN
METHOD:PUBLISH
UID:22fa3b11-4495-494f-b036-00f745c401fa
X-WR-CALDESC:Juror Dr. Mika Cho\, at \nThe Artists' Reception is Saturday\,
  October 16\, from 2 pm to 4 pm.  \nAwards will be presented around 3 pm. 
  \n\nThe full-color printed catalog will be available for purchase at the 
 reception.  \nThe 96th Annual will also be online at ISSUU.com starting Oc
 tober 15.
X-WR-RELCALID:2e7a3d61d0a3a9ba2a01eac6e9eb4d3c
X-WR-TIMEZONE:America/Los_Angeles
BEGIN:VTIMEZONE
TZID:America/Los_Angeles
BEGIN:STANDARD
TZNAME:PST
DTSTART:20201101T020000
TZOFFSETFROM:-0700
TZOFFSETTO:-0800
RDATE:20211107T020000
RDATE:20221106T020000
END:STANDARD
BEGIN:DAYLIGHT
TZNAME:PDT
DTSTART:20210314T020000
TZOFFSETFROM:-0800
TZOFFSETTO:-0700
RDATE:20220313T020000
RDATE:20230312T020000
END:DAYLIGHT
END:VTIMEZONE
BEGIN:VEVENT
UID:698172d8-43e9-494d-a2f5-fdd285334928
DTSTAMP:20260420T094340Z
DESCRIPTION:Juror Dr. Mika Cho\, at \nThe Artists' Reception is Saturday\, 
 October 16\, from 2 pm to 4 pm.  \nAwards will be presented around 3 pm.  
 \n\nThe full-color printed catalog will be available for purchase at the r
 eception.  \nThe 96th Annual will also be online at ISSUU.com starting Oct
 ober 15.
DTSTART;TZID=America/Los_Angeles:20211016T140000
DTEND;TZID=America/Los_Angeles:20211016T160000
LOCATION:Whites Fine Art Gallery 2414 Honolulu Avenue\, Montrose\, CA 91020
  818-957-4071  www.whitesfineart.com  Gallery Hours:  Tuesday – Saturday 9
  am – 5 pm
SUMMARY:96th Annual Juried Exhibition - Artists' Reception
END:VEVENT
END:VCALENDAR
