BEGIN:VCALENDAR
VERSION:2.0
PRODID:-//www.pasadenasocietyofartists.org//NONSGML kigkonsult.se iCalcreat
 or 2.30.10//
CALSCALE:GREGORIAN
METHOD:PUBLISH
UID:6b394ff8-3bc7-43de-8703-b7d78a6d05d0
X-WR-CALDESC:Juror Dr. Mika Cho\, at Whites Fine Art Gallery in Montrose Oc
 tober 15.  \nThe Artists' Reception is Saturday\, October 16\, from 2 pm t
 o 4 pm.  \nAwards will be presented around 3 pm.  \nThe full-color printed
  catalog will be available for purchase at the reception.  \nThe 96th Annu
 al will also be online at ISSUU.com starting October 15.\n\nContinues unti
 l November 13.
X-WR-RELCALID:3e6041266decaae59f3d632ebe571099
X-WR-TIMEZONE:America/Los_Angeles
BEGIN:VTIMEZONE
TZID:America/Los_Angeles
BEGIN:STANDARD
TZNAME:PST
DTSTART:20201101T020000
TZOFFSETFROM:-0700
TZOFFSETTO:-0800
RDATE:20211107T020000
RDATE:20221106T020000
END:STANDARD
BEGIN:DAYLIGHT
TZNAME:PDT
DTSTART:20210314T020000
TZOFFSETFROM:-0800
TZOFFSETTO:-0700
RDATE:20220313T020000
RDATE:20230312T020000
END:DAYLIGHT
END:VTIMEZONE
BEGIN:VEVENT
UID:915998a2-a684-403f-8e30-ecc95f703640
DTSTAMP:20260420T094743Z
DESCRIPTION:Juror Dr. Mika Cho\, at Whites Fine Art Gallery in Montrose Oct
 ober 15.  \nThe Artists' Reception is Saturday\, October 16\, from 2 pm to
  4 pm.  \nAwards will be presented around 3 pm.  \nThe full-color printed 
 catalog will be available for purchase at the reception.  \nThe 96th Annua
 l will also be online at ISSUU.com starting October 15.\n\nContinues until
  November 13.
DTSTART;TZID=America/Los_Angeles:20211015T090000
DTEND;TZID=America/Los_Angeles:20211015T170000
LOCATION:Whites Fine Art Gallery 2414 Honolulu Avenue\, Montrose\, CA 91020
  818-957-4071  www.whitesfineart.com  Gallery Hours:  Tuesday – Saturday 9
  am – 5 pm   -and-   ONLINE  -and- Online
SUMMARY:96th Annual Juried Exhibition
END:VEVENT
END:VCALENDAR
