BEGIN:VCALENDAR
VERSION:2.0
PRODID:-//www.pasadenasocietyofartists.org//NONSGML kigkonsult.se iCalcreat
 or 2.30.10//
CALSCALE:GREGORIAN
METHOD:PUBLISH
UID:574dad6a-f2cb-4a9c-b0fa-0798e0a494d9
X-WR-CALDESC:Board Meeting: 10 am to 12 pm\nGeneral Meeting (for members): 
  12 pm to 2 pm\n\nBecause of the surge of the Delta variant of the virus\,
  we respectfully ask that everyone take appropriate measures to keep us al
 l safe.
X-WR-RELCALID:2c78da28221ef0f5ab4a8024e5e80493
X-WR-TIMEZONE:America/Los_Angeles
BEGIN:VTIMEZONE
TZID:America/Los_Angeles
BEGIN:STANDARD
TZNAME:PST
DTSTART:20201101T020000
TZOFFSETFROM:-0700
TZOFFSETTO:-0800
RDATE:20211107T020000
RDATE:20221106T020000
END:STANDARD
BEGIN:DAYLIGHT
TZNAME:PDT
DTSTART:20210314T020000
TZOFFSETFROM:-0800
TZOFFSETTO:-0700
RDATE:20220313T020000
RDATE:20230312T020000
END:DAYLIGHT
END:VTIMEZONE
BEGIN:VEVENT
UID:1d3260fc-6157-4dea-af0c-67728c390a2a
DTSTAMP:20260420T094615Z
DESCRIPTION:Board Meeting: 10 am to 12 pm\nGeneral Meeting (for members):  
 12 pm to 2 pm\n\nBecause of the surge of the Delta variant of the virus\, 
 we respectfully ask that everyone take appropriate measures to keep us all
  safe.
DTSTART;TZID=America/Los_Angeles:20211009T120000
DTEND;TZID=America/Los_Angeles:20211009T140000
LOCATION:Farnsworth Park\, Altadena (meeting will be outside at tables or a
 mphitheater depending on availability)
SUMMARY:October Member Meeting
END:VEVENT
END:VCALENDAR
