BEGIN:VCALENDAR
VERSION:2.0
PRODID:-//www.pasadenasocietyofartists.org//NONSGML kigkonsult.se iCalcreat
 or 2.30.10//
CALSCALE:GREGORIAN
METHOD:PUBLISH
UID:e1c8bd5e-f944-4130-945e-0aca1e4712d8
X-WR-CALDESC:PSA members and friends welcome \n** Covid vaccination require
 d. **\nPlease bring artwork in progress or completed.  Beverages and snack
 s appreciated. \nTopic: The Art of Creativity. \nEmail vicpicou@icloud.com
  so I know you're coming\, then I’ll send you my address.
X-WR-RELCALID:5dea85d8268f64fdc2f8b0af11134154
X-WR-TIMEZONE:America/Los_Angeles
BEGIN:VTIMEZONE
TZID:America/Los_Angeles
BEGIN:STANDARD
TZNAME:PST
DTSTART:20201101T020000
TZOFFSETFROM:-0700
TZOFFSETTO:-0800
RDATE:20211107T020000
RDATE:20221106T020000
END:STANDARD
BEGIN:DAYLIGHT
TZNAME:PDT
DTSTART:20210314T020000
TZOFFSETFROM:-0800
TZOFFSETTO:-0700
RDATE:20220313T020000
RDATE:20230312T020000
END:DAYLIGHT
END:VTIMEZONE
BEGIN:VEVENT
UID:8f22150c-b983-4f51-979c-5b9702aab9b6
DTSTAMP:20260420T112457Z
DESCRIPTION:PSA members and friends welcome \n** Covid vaccination required
 . **\nPlease bring artwork in progress or completed.  Beverages and snacks
  appreciated. \nTopic: The Art of Creativity. \nEmail vicpicou@icloud.com 
 so I know you're coming\, then I’ll send you my address.
DTSTART;TZID=America/Los_Angeles:20210925T140000
DTEND;TZID=America/Los_Angeles:20210925T170000
LOCATION:Patio at Vic Picou’s home in Burbank
SUMMARY:September Salon
END:VEVENT
END:VCALENDAR
