BEGIN:VCALENDAR
VERSION:2.0
PRODID:-//www.pasadenasocietyofartists.org//NONSGML kigkonsult.se iCalcreat
 or 2.30.10//
CALSCALE:GREGORIAN
METHOD:PUBLISH
UID:5cccef07-85e6-44d8-b6bc-7389ac95b07c
X-WR-CALDESC:Board Meeting: 10 am to 12 pm\nGeneral Meeting (for members): 
  12 pm to 2 pm\n\nBecause of the surge of the Delta variant of the virus\,
  we respectfully ask that everyone take appropriate measures to keep us al
 l safe.
X-WR-RELCALID:fd4f6495683c8e22bf8f2836b070bf3d
X-WR-TIMEZONE:America/Los_Angeles
BEGIN:VTIMEZONE
TZID:America/Los_Angeles
BEGIN:STANDARD
TZNAME:PST
DTSTART:20201101T020000
TZOFFSETFROM:-0700
TZOFFSETTO:-0800
RDATE:20211107T020000
RDATE:20221106T020000
END:STANDARD
BEGIN:DAYLIGHT
TZNAME:PDT
DTSTART:20210314T020000
TZOFFSETFROM:-0800
TZOFFSETTO:-0700
RDATE:20220313T020000
RDATE:20230312T020000
END:DAYLIGHT
END:VTIMEZONE
BEGIN:VEVENT
UID:43c806ae-0186-4c2e-b281-460d410a5b91
DTSTAMP:20260420T112329Z
DESCRIPTION:Board Meeting: 10 am to 12 pm\nGeneral Meeting (for members):  
 12 pm to 2 pm\n\nBecause of the surge of the Delta variant of the virus\, 
 we respectfully ask that everyone take appropriate measures to keep us all
  safe.
DTSTART;TZID=America/Los_Angeles:20210911T100000
DTEND;TZID=America/Los_Angeles:20210911T140000
LOCATION:Farnsworth Park\, Altadena (meeting will be outside at tables or a
 mphitheater depending on availability)
SUMMARY:September Member Meeting
END:VEVENT
END:VCALENDAR
