BEGIN:VCALENDAR
VERSION:2.0
PRODID:-//www.pasadenasocietyofartists.org//NONSGML kigkonsult.se iCalcreat
 or 2.30.10//
CALSCALE:GREGORIAN
METHOD:PUBLISH
UID:b560380f-4878-4a22-8dcf-a6e7608eef3f
X-WR-CALDESC:
X-WR-RELCALID:487b9bad5240d8cd06d093b411fc20ad
X-WR-TIMEZONE:America/Los_Angeles
BEGIN:VTIMEZONE
TZID:America/Los_Angeles
BEGIN:STANDARD
TZNAME:PST
DTSTART:20201101T020000
TZOFFSETFROM:-0700
TZOFFSETTO:-0800
RDATE:20211107T020000
END:STANDARD
BEGIN:DAYLIGHT
TZNAME:PDT
DTSTART:20200308T020000
TZOFFSETFROM:-0800
TZOFFSETTO:-0700
RDATE:20210314T020000
RDATE:20220313T020000
END:DAYLIGHT
END:VTIMEZONE
BEGIN:VEVENT
UID:b95719ab-d392-4711-ab89-fc7b422ab233
DTSTAMP:20260420T070525Z
DESCRIPTION:
DTSTART;TZID=America/Los_Angeles:20201107T000000
DTEND;TZID=America/Los_Angeles:20201107T235900
LOCATION:Blinn House: 160 N. Oakland Ave. Pasadena\, CA
SUMMARY:Monthly Meeting & Program--SUSPENDED until further notice
END:VEVENT
END:VCALENDAR
