BEGIN:VCALENDAR
VERSION:2.0
PRODID:-//www.pasadenasocietyofartists.org//NONSGML kigkonsult.se iCalcreat
 or 2.30.10//
CALSCALE:GREGORIAN
METHOD:PUBLISH
UID:4125631b-a2a1-45e5-848f-791424f721af
X-WR-CALDESC:
X-WR-RELCALID:0c97a3fc0429187a141a4fe298098b0a
X-WR-TIMEZONE:America/Los_Angeles
BEGIN:VTIMEZONE
TZID:America/Los_Angeles
BEGIN:STANDARD
TZNAME:PST
DTSTART:20191103T020000
TZOFFSETFROM:-0700
TZOFFSETTO:-0800
RDATE:20201101T020000
RDATE:20211107T020000
END:STANDARD
BEGIN:DAYLIGHT
TZNAME:PDT
DTSTART:20200308T020000
TZOFFSETFROM:-0800
TZOFFSETTO:-0700
RDATE:20210314T020000
END:DAYLIGHT
END:VTIMEZONE
BEGIN:VEVENT
UID:47e971bf-bf99-4b76-b340-6b2a40d575bf
DTSTAMP:20260420T091024Z
DESCRIPTION:
DTSTART;TZID=America/Los_Angeles:20200905T000000
DTEND;TZID=America/Los_Angeles:20200905T235900
LOCATION:Blinn House: 160 N. Oakland Ave. Pasadena\, CA
SUMMARY:Monthly Meeting & Program--SUSPENDED until further notice
END:VEVENT
END:VCALENDAR
